BEGIN:VCALENDAR
VERSION:2.0
PRODID:-//ChamberMaster//Event Calendar 2.0//EN
METHOD:PUBLISH
X-PUBLISHED-TTL:P3D
REFRESH-INTERVAL:P3D
CALSCALE:GREGORIAN
BEGIN:VEVENT
DTSTART:20170319T060000Z
DTEND:20170319T230000Z
X-MICROSOFT-CDO-ALLDAYEVENT:FALSE
SUMMARY:Vintage Paso Open Cellar
DESCRIPTION:On Saturday and Sunday of Vintage Paso Weekend\, from 11:00am to 4:00pm\, step into our famous Open Cellar event\, for a chance to sip and savor in the heart of the winery.  Enjoy a specially paired flight of our estate wines with delectable cheeses and sample the newest vintage straight from the barrel.  We are hosting several local artists and vendors as well\, so come and check out their amazing artisanal creations.
X-ALT-DESC;FMTTYPE=text/html:<span style="font-family:calibri\,sans-serif"><span style="font-size:11.0pt">On Saturday and Sunday of Vintage Paso Weekend\, from 11:00am to 4:00pm\, step into our famous Open Cellar event\, for a chance to sip and savor in the heart of the winery.&nbsp\; Enjoy a specially paired flight of our estate wines with delectable cheeses and sample the newest vintage straight from the barrel.&nbsp\; We are hosting several local artists and vendors as well\, so come and check out their amazing artisanal creations.</span></span>
LOCATION:Le Vigne Winery
UID:e.2488.6089
SEQUENCE:3
DTSTAMP:20260421T081915Z
URL:https://business.pasorobleschamber.com/events/details/vintage-paso-open-cellar-6089
END:VEVENT

END:VCALENDAR
