BEGIN:VCALENDAR
VERSION:2.0
PRODID:-//ChamberMaster//Event Calendar 2.0//EN
METHOD:PUBLISH
X-PUBLISHED-TTL:P3D
REFRESH-INTERVAL:P3D
CALSCALE:GREGORIAN
BEGIN:VEVENT
DTSTART:20180316T170000Z
DTEND:20180318T120000Z
X-MICROSOFT-CDO-ALLDAYEVENT:FALSE
SUMMARY:Vintage Paso: Zinfandel Festival
DESCRIPTION:March 16\, 2018 - March 18\, 2018\n\n \n\nWinery tours daily offered at 11am and 1pm.\n\nLive Music by "Louie Ortega" March 17 & 18\, 1 - 4pm\n\nTake advantage of our weekend case specials.\n\nWe will also have complimentary appetizers available throughout the weekend.
X-ALT-DESC;FMTTYPE=text/html:<h2 style="text-align: center\;"><span style="font-family:times new roman">March 16\, 2018 - March 18\, 2018</span><br />\n&nbsp\;</h2>\n\n<h2 style="text-align:center"><span style="font-family:times new roman">Winery tours daily offered at 11am and 1pm.</span></h2>\n\n<h2 style="text-align:center"><span style="font-family:times new roman">Live Music by &quot\;Louie Ortega&quot\; March 17 &amp\; 18\, 1 - 4pm</span></h2>\n\n<h2 style="text-align:center"><span style="font-family:times new roman">Take advantage of our weekend case specials.</span></h2>\n\n<h2 style="text-align:center"><span style="font-family:times new roman">We will also have complimentary appetizers available throughout the weekend.&nbsp\;</span></h2>\n
LOCATION:Pear Valley Vineyards 4900 Union Rd Paso Robles\, CA 93446
UID:e.2488.7097
SEQUENCE:3
DTSTAMP:20260422T050120Z
URL:https://business.pasorobleschamber.com/events/details/vintage-paso-zinfandel-festival-7097
END:VEVENT

END:VCALENDAR
