BEGIN:VCALENDAR
VERSION:2.0
PRODID:-//ChamberMaster//Event Calendar 2.0//EN
METHOD:PUBLISH
X-PUBLISHED-TTL:P3D
REFRESH-INTERVAL:P3D
CALSCALE:GREGORIAN
BEGIN:VEVENT
DTSTART:20180316T170000Z
DTEND:20180319T000000Z
X-MICROSOFT-CDO-ALLDAYEVENT:FALSE
SUMMARY:Vintage Paso: Zinfandel Weekend at Summerwood Winery
DESCRIPTION:We will release our very limited production 2016 Zinfandel during the Vintage Paso: Zinfandel weekend. We only made 250 cases of this wine and this will be your best chance to get your hands on some. In addition to the great wine we will have a "stache" of artisanal chocolates for you to enjoy with our boutique wines. Wine + Chocolate = Fabulous times at Summerwood Winery!
X-ALT-DESC;FMTTYPE=text/html:We will release our very limited production 2016 Zinfandel during the Vintage Paso: Zinfandel weekend. We only made 250 cases of this wine and this will be your best chance to get your hands on some. In addition to the great wine we will have a &ldquo\;stache&rdquo\; of artisanal chocolates for you to enjoy with our boutique wines. Wine + Chocolate = Fabulous times at Summerwood Winery!
LOCATION:Summerwood Winery
UID:e.2488.7965
SEQUENCE:3
DTSTAMP:20260422T050120Z
URL:https://business.pasorobleschamber.com/events/details/vintage-paso-zinfandel-weekend-at-summerwood-winery-7965
END:VEVENT

END:VCALENDAR
