BEGIN:VCALENDAR
VERSION:2.0
PRODID:-//ChamberMaster//Event Calendar 2.0//EN
METHOD:PUBLISH
X-PUBLISHED-TTL:P3D
REFRESH-INTERVAL:P3D
CALSCALE:GREGORIAN
BEGIN:VEVENT
DTSTART:20190126T010000Z
DTEND:20190126T050000Z
X-MICROSOFT-CDO-ALLDAYEVENT:FALSE
SUMMARY:Vinyl Night at Bushong Vintage Company
DESCRIPTION:Grab your favorite vinyl from the dark storage containers of your garage and bring them to Bushong Vintage Company! We can clean and play your favorites while noshing on some light fare and sipping on some fine wines.
X-ALT-DESC;FMTTYPE=text/html:<p>Grab your favorite vinyl from the dark storage containers of your garage and bring them to Bushong Vintage Company! We can clean and play your favorites while noshing on some light fare and sipping on some fine wines.&nbsp\;</p>\n\n<p>&nbsp\;</p>\n\n<p>&nbsp\;</p>\n
LOCATION:Bushong Vintage Company\, 565 12th St. Paso Robles\, CA 93446
UID:e.2488.9689
SEQUENCE:3
DTSTAMP:20260421T062110Z
URL:https://business.pasorobleschamber.com/events/details/vinyl-night-at-bushong-vintage-company-9689
END:VEVENT

END:VCALENDAR
