BEGIN:VCALENDAR
VERSION:2.0
PRODID:-//ChamberMaster//Event Calendar 2.0//EN
METHOD:PUBLISH
X-PUBLISHED-TTL:P3D
REFRESH-INTERVAL:P3D
CALSCALE:GREGORIAN
BEGIN:VEVENT
DTSTART:20160127T153000Z
DTEND:20160127T170000Z
X-MICROSOFT-CDO-ALLDAYEVENT:FALSE
SUMMARY:Wake Up Paso
DESCRIPTION:Join us for networking\, presentations\, and a continental breakfast!\n\n\n\n2016 - What you need to know!\n\nPresenters include Edward Dee Hinds\, HFG Coastal Insurance Services and Eric Snider\, eConcept.\n\n$20/member\, $25/non-member\n\nPlease call 805-238-0506 for tickets.
X-ALT-DESC;FMTTYPE=text/html:<p style="font-stretch: normal\; font-size: 13px\; font-family: tahoma\, sans-serif\; line-height: 16px\; color: rgb(89\, 89\, 89)\; background-color: rgb(255\, 255\, 255)\;">Join us for networking\, presentations\, and a continental breakfast!<br />\n<br />\n2016 - What you need to know!</p>\n\n<p style="font-stretch: normal\; font-size: 13px\; font-family: tahoma\, sans-serif\; line-height: 16px\; color: rgb(89\, 89\, 89)\; background-color: rgb(255\, 255\, 255)\;">Presenters include Edward Dee Hinds\, HFG Coastal Insurance Services and Eric Snider\, eConcept.</p>\n\n<p style="font-stretch: normal\; font-size: 13px\; font-family: tahoma\, sans-serif\; line-height: 16px\; color: rgb(89\, 89\, 89)\; background-color: rgb(255\, 255\, 255)\;">$20/member\, $25/non-member</p>\n\n<p style="font-stretch: normal\; font-size: 13px\; font-family: tahoma\, sans-serif\; line-height: 16px\; color: rgb(89\, 89\, 89)\; background-color: rgb(255\, 255\, 255)\;">Please call 805-238-0506 for tickets.</p>\n
LOCATION:La Quinta Inn & Suites 2615 Buena Vista Drive Paso Robles\, CA 93446
UID:e.2488.4485
SEQUENCE:3
DTSTAMP:20260424T222647Z
URL:https://business.pasorobleschamber.com/events/details/wake-up-paso-01-27-2016-4485
END:VEVENT

END:VCALENDAR
