BEGIN:VCALENDAR
VERSION:2.0
PRODID:-//ChamberMaster//Event Calendar 2.0//EN
METHOD:PUBLISH
X-PUBLISHED-TTL:P3D
REFRESH-INTERVAL:P3D
CALSCALE:GREGORIAN
BEGIN:VEVENT
DTSTART:20160427T143000Z
DTEND:20160427T160000Z
X-MICROSOFT-CDO-ALLDAYEVENT:FALSE
SUMMARY:Wake Up Paso
DESCRIPTION:Join us for breakfast\, networking\, and expert speakers!\n\nApril 27th from 7:30am to 9am.\n\n\n\nThis month's expert speakers include:\n\n\n\nAmanda Diefenderfer\, TravelPaso\n\nAttracting Visitors to a Wine & More Destination\n\nAmanda has worked at the Wine Institute and Paso Robles Wine Country Alliance\, and founded Big Red Marketing\, a local wine\, lifestyle and tourism marketing agency\, in July 2012. She participated in SLO Leadership Class XXI\, actively supports the local chapter of the Santa Clara University Alumni Association\, and attended the Leon and Sylvia Panetta Institute's Education for Leadership. Diefenderfer named her company after the family ranch she grew up on in Paso Robles   Big Red Vineyard. \n\n\n\nLuana Gerardis Alhadeff\, Kings Mortgage\, Inc.\n\nCredit Scores: How to Improve Them & Their Impact on Purchasing Power\n\nLuana is a highly driven\, result-focused professional with over 15 years of experience in sales\, customer service\, and management. She believes that the lending process should be stress-free and begin with patience\, educating clients\, and establishing individual relationships that help customers achieve their unique financing goals.\n\n\n\nHeather Moreno\n\n3 Weight Loss Mistakes You Don't Know You're Making\n\nHeather is a CPA-turned-wellness professional\, an American College of Sports\n\nMedicine Certified Exercise Physiologist\, a Wellcoaches Certified Wellness Coach\,and has her master's degree from Fuller Seminary. She is also the author of "Achieving Physical Wealth: 8 Simple Steps for Breaking the Rules of Staying Fit."\n\n\n\nNon-Profit News: Mindy Sisemore from the Paso Robles Youth Arts Foundation will be sharing information about their amazing organization!\n\n\n\nSee you there!
X-ALT-DESC;FMTTYPE=text/html:<span style="color: rgb(78\, 86\, 101)\; font-family: helvetica\, arial\, sans-serif\; font-size: 14px\; line-height: 18.76px\;">Join us for breakfast\, networking\, and expert speakers!</span><br style="color: rgb(78\, 86\, 101)\; font-family: helvetica\, arial\, sans-serif\; font-size: 14px\; line-height: 18.76px\;" />\n<span style="color: rgb(78\, 86\, 101)\; font-family: helvetica\, arial\, sans-serif\; font-size: 14px\; line-height: 18.76px\;">April 27th from 7:30am&nbsp\;to 9am.<br />\n<br />\nThis month&#39\;s expert speakers include:</span><br />\n<br />\n<strong><span style="font-size:14px\;">Amanda Diefenderfer\, TravelPaso</span></strong><br />\n<em>Attracting Visitors to a Wine &amp\; More Destination</em><br />\nAmanda has worked at the Wine Institute and Paso Robles Wine Country Alliance\, and&nbsp\;founded Big Red Marketing\, a local wine\, lifestyle and tourism marketing agency\, in July&nbsp\;2012. She participated in SLO Leadership Class XXI\, actively supports the local chapter&nbsp\;of the Santa Clara University Alumni Association\, and attended the Leon and Sylvia&nbsp\;Panetta Institute&rsquo\;s Education for Leadership. Diefenderfer named her company after&nbsp\;the family ranch she grew up on in Paso Robles &ndash\; Big Red Vineyard.&nbsp\;<br />\n<br />\n<span style="font-size:14px\;"><strong>Luana Gerardis Alhadeff\, Kings Mortgage\, Inc.</strong></span><br />\n<em>Credit Scores: How to Improve Them &amp\; Their Impact on Purchasing Power</em><br />\nLuana is a highly driven\, result-focused professional with over 15 years of experience in&nbsp\;sales\, customer service\, and management. She believes that the lending process should&nbsp\;be stress-free and begin with patience\, educating clients\, and establishing individual&nbsp\;relationships that help customers achieve their unique financing goals.<br />\n<br />\n<span style="font-size:14px\;">Heather Moreno</span><br />\n<em>3 Weight Loss Mistakes You Don&rsquo\;t Know You&rsquo\;re Making</em><br />\nHeather is a CPA-turned-wellness professional\, an American College of Sports<br />\nMedicine Certified Exercise Physiologist\, a Wellcoaches Certified Wellness Coach\,and has her master&rsquo\;s degree from Fuller Seminary. She is also the author of&nbsp\;&ldquo\;Achieving Physical Wealth: 8 Simple Steps for Breaking the Rules of Staying Fit.&rdquo\;<br />\n<br />\n<strong>Non-Profit News</strong>:&nbsp\;Mindy Sisemore from the <em>Paso Robles Youth Arts&nbsp\;Foundation</em> will be sharing information about their&nbsp\;amazing organization!<br />\n<br />\nSee you there!
LOCATION:Paso Robles Inn Ballroom 1103 Spring Street Paso Robles\, CA
UID:e.2488.4495
SEQUENCE:3
DTSTAMP:20260423T072147Z
URL:https://business.pasorobleschamber.com/events/details/wake-up-paso-04-27-2016-4495
END:VEVENT

END:VCALENDAR
