BEGIN:VCALENDAR
VERSION:2.0
PRODID:-//ChamberMaster//Event Calendar 2.0//EN
METHOD:PUBLISH
X-PUBLISHED-TTL:P3D
REFRESH-INTERVAL:P3D
CALSCALE:GREGORIAN
BEGIN:VEVENT
DTSTART:20160525T143000Z
DTEND:20160525T160000Z
X-MICROSOFT-CDO-ALLDAYEVENT:FALSE
SUMMARY:Wake Up Paso
DESCRIPTION:Join us for breakfast\, networking\, and expert speakers!\n\nMay 25th from 7:30am to 9am.\n\n\n\nLaurie Dey\, Farm Credit West\n\nLocal Agricultural Industry Updates\n\nLaurie is an Assistant Vice President with Farm Credit West. With over 12 years of lending experience\, she currently specializes in financing Agricultural operations on the Central Coast. She will deliver a brief overview of our local agricultural industry and how it effects you directly.\n\n\n\nLeslie Kubin\, Healing the Quantum Way\n\nGMOs and their Impact on your Health\n\nLeslie was born and raised in MN\, attended college at UW Eau Claire\, and received her MS at Western Washington University?Huxley College of the Environment. She worked for the Federal government for over 12 years doing environmental and toxicology research. After a diagnosis of MS and Lyme disease she turned her focus to her health and began her work with biofeedback therapy and AIT nutritional consulting. She continues to stay up to date with the latest research involving pathogens\, toxins\, and their impact on our bodies. She loves to help people unravel the mystery of their health challenges.\n\n\n\nMeghan Harris will be sharing information about the Boys & Girls Club movement\, what their Club specifically is doing and striving towards\, and ways the community can help.
X-ALT-DESC;FMTTYPE=text/html:<span style="color: rgb(78\, 86\, 101)\; font-family: helvetica\, arial\, sans-serif\; font-size: 14px\; line-height: 18.76px\;">Join us for breakfast\, networking\, and expert speakers!</span><br style="color: rgb(78\, 86\, 101)\; font-family: helvetica\, arial\, sans-serif\; font-size: 14px\; line-height: 18.76px\;">\n<span style="color: rgb(78\, 86\, 101)\; font-family: helvetica\, arial\, sans-serif\; font-size: 14px\; line-height: 18.76px\;">May 25th from 7:30am&nbsp\;to 9am.</span><br style="color: rgb(78\, 86\, 101)\; font-family: helvetica\, arial\, sans-serif\; font-size: 14px\; line-height: 18.76px\;">\n<br style="color: rgb(78\, 86\, 101)\; font-family: helvetica\, arial\, sans-serif\; font-size: 14px\; line-height: 18.76px\;">\nLaurie Dey\, Farm Credit West<br>\nLocal Agricultural Industry Updates<br>\nLaurie is an Assistant Vice President with Farm Credit West. With over 12&nbsp\;years of lending experience\, she currently specializes in financing Agricultural&nbsp\;operations on the Central Coast. She will deliver&nbsp\;a brief overview of our local&nbsp\;agricultural industry and how it effects you directly.<br>\n<br>\nLeslie Kubin\, Healing the Quantum Way<br>\nGMOs and their Impact on your Health<br>\nLeslie was born and raised in MN\, attended college at UW Eau Claire\, and received&nbsp\;her MS at Western Washington University?Huxley College of the Environment. She&nbsp\;worked for the Federal government for over 12 years doing environmental and&nbsp\;toxicology research. After a diagnosis of MS and Lyme disease she turned her focus&nbsp\;to her health and began her work with biofeedback therapy and AIT nutritional&nbsp\;consulting. She continues to stay up to date with the latest research involving pathogens\, toxins\, and&nbsp\;their impact on our bodies. She loves to help people unravel the mystery of their health challenges.<br>\n<br>\nMeghan Harris will be sharing information about the Boys &amp\; Girls&nbsp\;Club movement\, what their Club specifically is doing and striving&nbsp\;towards\, and ways the community can help.
LOCATION:Paso Robles Inn Ballroom 1103 Spring Street Paso Robles\, CA
UID:e.2488.4632
SEQUENCE:3
DTSTAMP:20260423T195719Z
URL:https://business.pasorobleschamber.com/events/details/wake-up-paso-05-25-2016-4632
END:VEVENT

END:VCALENDAR
