BEGIN:VCALENDAR
VERSION:2.0
PRODID:-//ChamberMaster//Event Calendar 2.0//EN
METHOD:PUBLISH
X-PUBLISHED-TTL:P3D
REFRESH-INTERVAL:P3D
CALSCALE:GREGORIAN
BEGIN:VEVENT
DTSTART:20160629T143000Z
DTEND:20160629T160000Z
X-MICROSOFT-CDO-ALLDAYEVENT:FALSE
SUMMARY:Wake Up Paso
DESCRIPTION:Join us for breakfast\, networking\, and expert speakers!\n\nJune 29th from 7:30am to 9am.\n\n\n\nSpeakers include:\n\n\n\nJohn Shoals\, PG&E\n\nPaso Robles Power Connect Project\n\n\n\nJohn Arnold\, Paso Chamber's Chairman of the Board\n\n2016 Business Plan\n\n\n\nRichard Clayton\, Paso Robles Joint Unified School District\n\nMovement and the Brain\n\n\n\nBecky Gray\, must! charities\n\n\n\nSee you there!
X-ALT-DESC;FMTTYPE=text/html:<span style="font-size:14px\;"><span style="font-family:arial\;"><span style="line-height: 18.76px\;">Join us for breakfast\, networking\, and expert speakers!</span><br style="color: rgb(78\, 86\, 101)\; font-family: helvetica\, arial\, sans-serif\; font-size: 14px\; line-height: 18.76px\;" />\n<span style="line-height: 18.76px\;">June 29th from 7:30am&nbsp\;to 9am.</span><br style="color: rgb(78\, 86\, 101)\; font-family: helvetica\, arial\, sans-serif\; font-size: 14px\; line-height: 18.76px\;" />\n<br style="color: rgb(78\, 86\, 101)\; font-family: helvetica\, arial\, sans-serif\; font-size: 14px\; line-height: 18.76px\;" />\n<span style="line-height: 18.76px\;">Speakers include:<br />\n<br />\nJohn Shoals\, PG&amp\;E</span><br />\nPaso Robles Power Connect Project<br />\n<br />\nJohn Arnold\, Paso Chamber&#39\;s Chairman of the Board<br />\n2016 Business Plan<br />\n<br />\nRichard Clayton\, Paso Robles Joint Unified School District<br />\nMovement and the Brain<br />\n<br />\nBecky Gray\, must! charities<br />\n<br />\nSee you there!</span></span>
LOCATION:Paso Robles Inn Ballroom 1103 Spring Street Paso Robles\, CA
UID:e.2488.4636
SEQUENCE:3
DTSTAMP:20260422T050406Z
URL:https://business.pasorobleschamber.com/events/details/wake-up-paso-06-29-2016-4636
END:VEVENT

END:VCALENDAR
