BEGIN:VCALENDAR
VERSION:2.0
PRODID:-//ChamberMaster//Event Calendar 2.0//EN
METHOD:PUBLISH
X-PUBLISHED-TTL:P3D
REFRESH-INTERVAL:P3D
CALSCALE:GREGORIAN
BEGIN:VEVENT
DTSTART:20160831T143000Z
DTEND:20160831T160000Z
X-MICROSOFT-CDO-ALLDAYEVENT:FALSE
SUMMARY:Wake Up Paso
DESCRIPTION:Join us for breakfast\, networking\, and expert speakers!\n\nAugust 31st from 7:30am to 9am.\n\n\n\nWe are proud to announce this month's speakers:\n\nMichael Bradley\, CEO\, California Mid-State Fair\n\nDavid Walker\, Co-Founder\, Firestone Walker Brewery\n\nMarisa Bloch\, Manager\, Pasolivo\n\nTatiana Abundis\, Program Director\, Big Brothers Big Sisters of SLO County\n\n\n\nHope to see you there!
X-ALT-DESC;FMTTYPE=text/html:<span style="color: rgb(78\, 86\, 101)\; font-family: helvetica\, arial\, sans-serif\; font-size: 14px\; line-height: 18.76px\;">Join us for breakfast\, networking\, and expert speakers!</span><br style="color: rgb(78\, 86\, 101)\; font-family: helvetica\, arial\, sans-serif\; font-size: 14px\; line-height: 18.76px\;" />\n<span style="color: rgb(78\, 86\, 101)\; font-family: helvetica\, arial\, sans-serif\; font-size: 14px\; line-height: 18.76px\;">August 31st from 7:30am&nbsp\;to 9am.</span><br style="color: rgb(78\, 86\, 101)\; font-family: helvetica\, arial\, sans-serif\; font-size: 14px\; line-height: 18.76px\;" />\n<br style="color: rgb(78\, 86\, 101)\; font-family: helvetica\, arial\, sans-serif\; font-size: 14px\; line-height: 18.76px\;" />\nWe are proud to announce this month&#39\;s speakers:<br />\nMichael Bradley\, CEO\, California Mid-State Fair<br />\nDavid Walker\, Co-Founder\, Firestone Walker Brewery<br />\nMarisa Bloch\, Manager\, Pasolivo<br />\nTatiana Abundis\, Program Director\, Big Brothers Big Sisters of SLO County<br />\n<br />\nHope to see you there!
LOCATION:Paso Robles Inn Ballroom 1103 Spring Street Paso Robles\, CA
UID:e.2488.4643
SEQUENCE:3
DTSTAMP:20260421T192712Z
URL:https://business.pasorobleschamber.com/events/details/wake-up-paso-08-31-2016-4643
END:VEVENT

END:VCALENDAR
