BEGIN:VCALENDAR
VERSION:2.0
PRODID:-//ChamberMaster//Event Calendar 2.0//EN
METHOD:PUBLISH
X-PUBLISHED-TTL:P3D
REFRESH-INTERVAL:P3D
CALSCALE:GREGORIAN
BEGIN:VEVENT
DTSTART:20161130T153000Z
DTEND:20161130T170000Z
X-MICROSOFT-CDO-ALLDAYEVENT:FALSE
SUMMARY:Wake Up Paso
DESCRIPTION:Join us for breakfast\, networking\, and expert speakers!\n\nNovember 30th from 7:30am to 9am.\n\n\n\nDave Cox\, Barnett\, Cox & Associates\n\n"Improve Return on Your Advertising Dollar with Better Content"\n\n\n\nJoel Cox\, Mystic Hills Vineyard\n\n"Editing the Perfect Wine"\n\n\n\nSarah Hinds & Dee Hinds\n\nHFG Coastal Insurance\n\n"What's happening in healthcare?"\n\n\n\nAngelica Fortin\n\nCity Librarian\n\n"Futures Begin at the Paso Robles City Library"
X-ALT-DESC;FMTTYPE=text/html:<span style="color: rgb(78\, 86\, 101)\; font-family: helvetica\, arial\, sans-serif\; font-size: 14px\; line-height: 18.76px\;">Join us for breakfast\, networking\, and expert speakers!</span><br style="color: rgb(78\, 86\, 101)\; font-family: helvetica\, arial\, sans-serif\; font-size: 14px\; line-height: 18.76px\;" />\n<span style="color: rgb(78\, 86\, 101)\; font-family: helvetica\, arial\, sans-serif\; font-size: 14px\; line-height: 18.76px\;">November 30th from 7:30am&nbsp\;to 9am.</span><br style="color: rgb(78\, 86\, 101)\; font-family: helvetica\, arial\, sans-serif\; font-size: 14px\; line-height: 18.76px\;" />\n<br />\nDave Cox\,&nbsp\;Barnett\, Cox &amp\; Associates<br />\n&quot\;Improve Return on Your Advertising Dollar with Better Content&quot\;<br />\n<br />\nJoel Cox\, Mystic Hills Vineyard<br />\n&quot\;Editing the Perfect Wine&quot\;<br />\n<br />\nSarah Hinds &amp\; Dee Hinds<br />\nHFG Coastal Insurance<br />\n&quot\;What&#39\;s happening in healthcare?&quot\;<br />\n<br />\nAngelica Fortin<br />\nCity Librarian<br />\n&quot\;Futures Begin at the Paso Robles City Library&quot\;
LOCATION:Paso Robles Inn Ballroom 1103 Spring Street Paso Robles\, CA
UID:e.2488.4655
SEQUENCE:3
DTSTAMP:20260420T203707Z
URL:https://business.pasorobleschamber.com/events/details/wake-up-paso-11-30-2016-4655
END:VEVENT

END:VCALENDAR
