BEGIN:VCALENDAR
VERSION:2.0
PRODID:-//ChamberMaster//Event Calendar 2.0//EN
METHOD:PUBLISH
X-PUBLISHED-TTL:P3D
REFRESH-INTERVAL:P3D
CALSCALE:GREGORIAN
BEGIN:VEVENT
DTSTART;VALUE=DATE:20170101
DTEND;VALUE=DATE:20170102
TRANSP:TRANSPARENT
X-MICROSOFT-CDO-ALLDAYEVENT:TRUE
SUMMARY:Wake Up Paso Annual Pass
DESCRIPTION:Save on your Wake Up Paso tickets in 2017 by purchasing a Wake Up Paso Annual Pass!\n\n\n\n$200 for 10 Wake Up Paso Breakfasts in 2017 on the following dates:\n\nJanuary 25th\n\nFebruary 22nd\n\nMarch 29th\n\nApril 26th\n\nMay 31st\n\nJune 28th\n\nAugust 30th\n\nSeptember 27th\n\nOctober 25th\n\nNovember 29th
X-ALT-DESC;FMTTYPE=text/html:Save on your Wake Up Paso tickets in 2017 by purchasing a Wake Up Paso Annual Pass!<br />\n<br />\n$200 for 10 Wake Up Paso Breakfasts in 2017 on the following dates:<br />\nJanuary 25th<br />\nFebruary 22nd<br />\nMarch 29th<br />\nApril 26th<br />\nMay 31st<br />\nJune 28th<br />\nAugust 30th<br />\nSeptember 27th<br />\nOctober 25th<br />\nNovember 29th
LOCATION:
UID:e.2488.5697
SEQUENCE:3
DTSTAMP:20260422T083131Z
URL:https://business.pasorobleschamber.com/events/details/wake-up-paso-annual-pass-5697
END:VEVENT

END:VCALENDAR
