BEGIN:VCALENDAR
VERSION:2.0
PRODID:-//ChamberMaster//Event Calendar 2.0//EN
METHOD:PUBLISH
X-PUBLISHED-TTL:P3D
REFRESH-INTERVAL:P3D
CALSCALE:GREGORIAN
BEGIN:VEVENT
DTSTART:20180407T180000Z
DTEND:20180407T210000Z
X-MICROSOFT-CDO-ALLDAYEVENT:FALSE
SUMMARY:Walk a Mile in Her Shoes - Paso Robles
DESCRIPTION:Every year\, San Luis Obispo County men\, women\, & children Walk a Mile to end sexual assault & gender-based violence. These family-friendly events create a safe environment for survivors & supporters to raise awareness for an uncomfortable topic that affects all of us in our community.
X-ALT-DESC;FMTTYPE=text/html:<h4><span style="font-family:source_sans_prosemibold\,helvetica\,arial\,sans-serif\; font-size:15px">Every year\, San Luis Obispo County men\, women\, &amp\; children Walk a Mile to end sexual assault &amp\; gender-based violence. These family-friendly events create a safe environment for survivors &amp\; supporters to raise awareness for an uncomfortable topic that affects all of us in our community.</span></h4>\n
LOCATION:Paso Robles City Park
UID:e.2488.8052
SEQUENCE:3
DTSTAMP:20260422T013238Z
URL:https://business.pasorobleschamber.com/events/details/walk-a-mile-in-her-shoes-paso-robles-8052
END:VEVENT

END:VCALENDAR
