BEGIN:VCALENDAR
VERSION:2.0
PRODID:-//ChamberMaster//Event Calendar 2.0//EN
METHOD:PUBLISH
X-PUBLISHED-TTL:P3D
REFRESH-INTERVAL:P3D
CALSCALE:GREGORIAN
BEGIN:VEVENT
DTSTART:20171130T173000Z
DTEND:20171130T203000Z
X-MICROSOFT-CDO-ALLDAYEVENT:FALSE
SUMMARY:Websites\, Google and SEO for Marketing
DESCRIPTION:SCORE's Websites\, Google and SEO SCORE's Website\,Google and SEO Marketing Workshop will help you better understand how you can reach your target market using today's best practices. You will also learn how to identify your unique selling position and to effectively communicate your message effectively capture customers and sales!
X-ALT-DESC;FMTTYPE=text/html:SCORE&rsquo\;s Websites\, Google and SEO SCORE&#39\;s Website\,Google and SEO Marketing Workshop will help you better understand how you can reach your target market using today&#39\;s best practices. You will also learn how to identify your unique selling position and to effectively communicate your message effectively capture customers and sales!
LOCATION:Held at Kennedy Club Fitness\, 500 S. River Road\, Paso Robles.
UID:e.2488.6855
SEQUENCE:3
DTSTAMP:20260422T140615Z
URL:https://business.pasorobleschamber.com/events/details/websites-google-and-seo-for-marketing-6855
END:VEVENT

END:VCALENDAR
