BEGIN:VCALENDAR
VERSION:2.0
PRODID:-//ChamberMaster//Event Calendar 2.0//EN
METHOD:PUBLISH
X-PUBLISHED-TTL:P3D
REFRESH-INTERVAL:P3D
CALSCALE:GREGORIAN
BEGIN:VEVENT
DTSTART;VALUE=DATE:20180427
DTEND;VALUE=DATE:20180430
TRANSP:TRANSPARENT
X-MICROSOFT-CDO-ALLDAYEVENT:TRUE
SUMMARY:Wellness Kitchen - Spring R&R Retreat
DESCRIPTION:Experience Wellness Workshops\, Yoga\, Incredible Food\, and time to Rest and Re-charge at the beautiful ranch property here on the Central Coast.
X-ALT-DESC;FMTTYPE=text/html:Experience&nbsp\;Wellness Workshops\, Yoga\, Incredible Food\, and time to Rest and Re-charge at the beautiful ranch property here on the Central Coast.
LOCATION:Dancing Deer Farm
UID:e.2488.9133
SEQUENCE:3
DTSTAMP:20260422T012806Z
URL:https://business.pasorobleschamber.com/events/details/wellness-kitchen-spring-r-r-retreat-9133
END:VEVENT

END:VCALENDAR
