BEGIN:VCALENDAR
VERSION:2.0
PRODID:-//ChamberMaster//Event Calendar 2.0//EN
METHOD:PUBLISH
X-PUBLISHED-TTL:P3D
REFRESH-INTERVAL:P3D
CALSCALE:GREGORIAN
BEGIN:VEVENT
DTSTART:20260509T203000Z
DTEND:20260509T213000Z
X-MICROSOFT-CDO-ALLDAYEVENT:FALSE
SUMMARY:Whimsical Snail - Painting Workshop
DESCRIPTION:Join McRobbins Studios in this Whimsical Snail painting class. This is perfect for beginners ages 3+. Expect simple step-by-step guidance\, upbeat music\, and a relaxed\, creative vibe where you can laugh\, play\, and bring out your creativity together!
X-ALT-DESC;FMTTYPE=text/html:Join McRobbins Studios in this Whimsical Snail painting class. This is perfect for beginners ages 3+. Expect simple step-by-step guidance\, upbeat music\, and a relaxed\, creative vibe where you can laugh\, play\, and bring out your creativity together!
LOCATION:Studios on the Park 1130 Pine St Paso Robles
UID:e.2488.20101
SEQUENCE:3
DTSTAMP:20260421T014142Z
URL:https://business.pasorobleschamber.com/events/details/whimsical-snail-painting-workshop-20101
END:VEVENT

END:VCALENDAR
