BEGIN:VCALENDAR
VERSION:2.0
PRODID:-//ChamberMaster//Event Calendar 2.0//EN
METHOD:PUBLISH
X-PUBLISHED-TTL:P3D
REFRESH-INTERVAL:P3D
CALSCALE:GREGORIAN
BEGIN:VEVENT
DTSTART:20160622T003000Z
DTEND:20160622T023000Z
X-MICROSOFT-CDO-ALLDAYEVENT:FALSE
SUMMARY:White Rhone Wines of Summer
DESCRIPTION:Celebrate summer with a white Rhone wine tasting with 25 Paso Robles Rhone Ranger wineries! Small bites and artisan cheese pairings plus live music complete this HOT TUESDAY VARIETAL NIGHT!
X-ALT-DESC;FMTTYPE=text/html:Celebrate summer with a white Rhone wine tasting with 25 Paso Robles Rhone Ranger wineries! Small bites and artisan cheese pairings plus live music complete this HOT TUESDAY VARIETAL NIGHT!
LOCATION:Eberle Winery 3810 Highway 46 East Paso Robles\, CA 93446
UID:e.2488.4774
SEQUENCE:3
DTSTAMP:20260424T160742Z
URL:https://business.pasorobleschamber.com/events/details/white-rhone-wines-of-summer-06-21-2016-4774
END:VEVENT

END:VCALENDAR
