BEGIN:VCALENDAR
VERSION:2.0
PRODID:-//ChamberMaster//Event Calendar 2.0//EN
METHOD:PUBLISH
X-PUBLISHED-TTL:P3D
REFRESH-INTERVAL:P3D
CALSCALE:GREGORIAN
BEGIN:VEVENT
DTSTART:20181014T200000Z
DTEND:20181014T230000Z
X-MICROSOFT-CDO-ALLDAYEVENT:FALSE
SUMMARY:Wine Country Troubadours LIVE
DESCRIPTION:Please come join us for free live music from 1-4pm\, food available for purchase from 11am-4pm\, wine tasting from 11am-4:45pm. Check out the MENU!\n\n\n\n\n\nhttps://www.facebook.com/WineCountryTroubadours/
X-ALT-DESC;FMTTYPE=text/html:<span style="color:rgba(0\, 0\, 0\, 0.87)\; font-family:roboto\,sans-serif\; font-size:14px">Please come join us for free live music from 1-4pm\, food available for purchase from 11am-4pm\, wine tasting from 11am-4:45pm. Check out the&nbsp\;</span><a href="http://www.villasanjuliette.com/tasting-tours/small-bites/" style="box-sizing: inherit\; background-color: transparent\; color: rgb(3\, 155\, 229)\; text-decoration-line: none\; -webkit-tap-highlight-color: transparent\; font-family: Roboto\, sans-serif\; font-size: 14px\; line-height: 21px\;">MENU</a><span style="color:rgba(0\, 0\, 0\, 0.87)\; font-family:roboto\,sans-serif\; font-size:14px">!</span><br />\n<br />\n<br />\n<a href="https://www.facebook.com/WineCountryTroubadours/" target="_blank">https://www.facebook.com/WineCountryTroubadours/</a>
LOCATION:Villa San Juliette Winery 6385 Cross Canyons Rd San Miguel CALIFORNIA 93451
UID:e.2488.8107
SEQUENCE:3
DTSTAMP:20260421T085215Z
URL:https://business.pasorobleschamber.com/events/details/wine-country-troubadours-live-8107
END:VEVENT

END:VCALENDAR
