BEGIN:VCALENDAR
VERSION:2.0
PRODID:-//ChamberMaster//Event Calendar 2.0//EN
METHOD:PUBLISH
X-PUBLISHED-TTL:P3D
REFRESH-INTERVAL:P3D
CALSCALE:GREGORIAN
BEGIN:VEVENT
DTSTART:20180518T170000Z
DTEND:20180521T000000Z
X-MICROSOFT-CDO-ALLDAYEVENT:FALSE
SUMMARY:Wine Fest Weekend at Calcareous Vineyard
DESCRIPTION:Wine Festival Weekend \n\nFriday - Sunday\, May 18th - 20th\n\nWine Tasting: 10-5 pm\, $15/person\n\nLunch available for purchase from 12-3pm.\n\n \n\nSunday\, May 20th\n\nWine\, Lunch and Live music from\n\nBrad Wilson from 12-3pm.
X-ALT-DESC;FMTTYPE=text/html:<div style="text-align: center\;"><br />\n<span style="font-size:24px"><strong><span style="font-family:times new roman">Wine Festival Weekend&nbsp\;</span></strong></span><br />\n<span style="font-family:times new roman"><span style="font-size:18px"><strong>Friday - Sunday\, May 18th - 20th</strong></span><br />\n<span style="font-size:14px">Wine Tasting: 10-5 pm\, $15/person<br />\nLunch available for purchase from 12-3pm.</span><br />\n&nbsp\;<br />\n<span style="font-size:18px"><strong>Sunday\, May 20th</strong></span><br />\n<span style="font-size:14px">Wine\, Lunch and Live music from<br />\nBrad Wilson&nbsp\;from 12-3pm.</span></span></div>\n
LOCATION:Calcareous Vineyard 3430 Peach Canyon Rd Paso Robles\, CA 93446
UID:e.2488.8057
SEQUENCE:3
DTSTAMP:20260421T235327Z
URL:https://business.pasorobleschamber.com/events/details/wine-fest-weekend-at-calcareous-vineyard-8057
END:VEVENT

END:VCALENDAR
