BEGIN:VCALENDAR
VERSION:2.0
PRODID:-//ChamberMaster//Event Calendar 2.0//EN
METHOD:PUBLISH
X-PUBLISHED-TTL:P3D
REFRESH-INTERVAL:P3D
CALSCALE:GREGORIAN
BEGIN:VEVENT
DTSTART;VALUE=DATE:20170519
DTEND;VALUE=DATE:20170520
TRANSP:TRANSPARENT
X-MICROSOFT-CDO-ALLDAYEVENT:TRUE
SUMMARY:Wine Festival Friday at Summerwood - Cheese Pairing
DESCRIPTION:Join us Friday and get your Wine Fest Weekend off to a great start. Enjoy current and new release wines with an optional cheese pairing. Case specials will abound all weekend.
X-ALT-DESC;FMTTYPE=text/html:<span style="font-family:calibri\,sans-serif"><span style="font-size:11.0pt">Join us Friday and get your Wine Fest Weekend off to a great start. Enjoy current and new release wines with an optional cheese pairing. Case specials will abound all weekend.</span></span>
LOCATION:Summerwood Winery & Inn
UID:e.2488.6447
SEQUENCE:3
DTSTAMP:20260423T184053Z
URL:https://business.pasorobleschamber.com/events/details/wine-festival-friday-cheese-pairing-6447
END:VEVENT

END:VCALENDAR
