BEGIN:VCALENDAR
VERSION:2.0
PRODID:-//ChamberMaster//Event Calendar 2.0//EN
METHOD:PUBLISH
X-PUBLISHED-TTL:P3D
REFRESH-INTERVAL:P3D
CALSCALE:GREGORIAN
BEGIN:VEVENT
DTSTART:20180520T010000Z
DTEND:20180520T050000Z
X-MICROSOFT-CDO-ALLDAYEVENT:FALSE
SUMMARY:Wine Festival Private Dinner at Wild Coyote Estate Winery
DESCRIPTION:Our private winemaker dinners are once a month\, and limited seating for a maximum of 20-guests .  Kati (Owner's wife) is the main host\; she designs all the menus\, prepares all the items fresh "farm-to-table"\, and serves in a friendly style hospitality.  DInner includes a bottle of Wild Coyote's Classic Reds.  Gianni (Owner/Winemaker) will make a round and toast a glass of wine with all his guests...\nDinner Menu:\n\nFirst Course: Stuffed Mushrooms\n\nSecond Course: Split Pea Soup\n\nMain Course: Chicken Picatta\n\nSweet Course: Stawberry Shortcake
X-ALT-DESC;FMTTYPE=text/html:<p><span style="font-size:14px"><span style="font-family:comic sans ms">Our private winemaker dinners are once a month\, and limited seating for a maximum of 20-guests .&nbsp\; Kati (Owner&#39\;s wife) is the main host\; she designs all the menus\, prepares all the items fresh &quot\;farm-to-table&quot\;\, and serves in a friendly style hospitality.&nbsp\; DInner includes a bottle of Wild Coyote&#39\;s Classic Reds.&nbsp\; Gianni (Owner/Winemaker) will make a round and toast a glass of wine with all his guests...</span></span></p>\n<span style="font-size:14px"><span style="font-family:comic sans ms"><span style="font-size:16px"><u><strong>Dinner Menu:</strong></u></span><br />\n<u>First Course:</u>&nbsp\;Stuffed Mushrooms<br />\n<u>Second Course:</u> Split Pea Soup<br />\n<u>Main Course:</u> Chicken Picatta<br />\n<u>Sweet Course:</u>&nbsp\;Stawberry Shortcake</span></span><br />\n&nbsp\;
LOCATION:Wild Coyote Estate Winery 3775 Adelaida Rd Paso Robles CA 93446
UID:e.2488.7934
SEQUENCE:3
DTSTAMP:20260422T124339Z
URL:https://business.pasorobleschamber.com/events/details/wine-festival-private-dinner-at-wild-coyote-estate-winery-7934
END:VEVENT

END:VCALENDAR
