BEGIN:VCALENDAR
VERSION:2.0
PRODID:-//ChamberMaster//Event Calendar 2.0//EN
METHOD:PUBLISH
X-PUBLISHED-TTL:P3D
REFRESH-INTERVAL:P3D
CALSCALE:GREGORIAN
BEGIN:VEVENT
DTSTART;VALUE=DATE:20170520
DTEND;VALUE=DATE:20170521
TRANSP:TRANSPARENT
X-MICROSOFT-CDO-ALLDAYEVENT:TRUE
SUMMARY:Wine Festival Saturday at Summerwood - Mini Cupcake Pairing!
DESCRIPTION:Get your pairing on at Summerwood! We'll be offering a fun mini-cupcake and wine pairing\, along with a cheese pairing option as well. (All while supplies last).
X-ALT-DESC;FMTTYPE=text/html:<span style="font-family:calibri\,sans-serif"><span style="font-size:11.0pt">Get your pairing on at Summerwood! We&#39\;ll be offering a fun mini-cupcake and wine pairing\, along with a cheese pairing option as well. (All while supplies last).</span></span>
LOCATION:Summerwood Winery & Inn
UID:e.2488.6448
SEQUENCE:3
DTSTAMP:20260423T172008Z
URL:https://business.pasorobleschamber.com/events/details/wine-festival-saturday-mini-cupcake-pairing-6448
END:VEVENT

END:VCALENDAR
