BEGIN:VCALENDAR
VERSION:2.0
PRODID:-//ChamberMaster//Event Calendar 2.0//EN
METHOD:PUBLISH
X-PUBLISHED-TTL:P3D
REFRESH-INTERVAL:P3D
CALSCALE:GREGORIAN
BEGIN:VEVENT
DTSTART:20180520T200000Z
DTEND:20180520T220000Z
X-MICROSOFT-CDO-ALLDAYEVENT:FALSE
SUMMARY:Wine Festival Weekend: La Tavola Cooking Demonstration
DESCRIPTION:On Sunday\, May 20\, at 1pm\, Winemaker Michael Barreto will guide you through the tips and tricks of the preparation of the Bordelaise dishes featured in the La Tavola shipment. Admission includes entry to the Open Cellar on Sunday. Tickets are complimentary for La Tavola members.To purchase tickets\, please contact our Wine Club Manager\, Savannah Romero\, at (805) 227-400 or email info@levignewinery.com.
X-ALT-DESC;FMTTYPE=text/html:On Sunday\, May 20\, at 1pm\, Winemaker Michael Barreto will guide you through the tips and tricks of the preparation of the Bordelaise dishes featured in the La Tavola shipment. Admission includes entry to the Open Cellar on Sunday. Tickets are complimentary for La Tavola members.To purchase tickets\, please contact our Wine Club Manager\, Savannah Romero\, at (805) 227-400 or email info@levignewinery.com.
LOCATION:Le Vigne Winery 5115 Buena Vista Drive Paso Robles\, CA
UID:e.2488.8115
SEQUENCE:3
DTSTAMP:20260422T041532Z
URL:https://business.pasorobleschamber.com/events/details/wine-festival-weekend-la-tavola-cooking-demonstration-8115
END:VEVENT

END:VCALENDAR
