BEGIN:VCALENDAR
VERSION:2.0
PRODID:-//ChamberMaster//Event Calendar 2.0//EN
METHOD:PUBLISH
X-PUBLISHED-TTL:P3D
REFRESH-INTERVAL:P3D
CALSCALE:GREGORIAN
BEGIN:VEVENT
DTSTART:20160806T230000Z
DTEND:20160807T020000Z
X-MICROSOFT-CDO-ALLDAYEVENT:FALSE
SUMMARY:Wine in the Vines
DESCRIPTION:You are invited to the first-ever Winemakers' Dinner hosted by the members of The Pleasant Valley Wine Trail! Saturday\, August 20\, 2016
X-ALT-DESC;FMTTYPE=text/html:You are invited to the first-ever Winemakers&#39\; Dinner hosted by the members of The Pleasant Valley Wine Trail! Saturday\, August 20\, 2016
LOCATION:Hartley Farms 6770 Estrella Road\, San Miguel\, CA 93451
UID:e.2488.4823
SEQUENCE:3
DTSTAMP:20260424T102436Z
URL:https://business.pasorobleschamber.com/events/details/wine-in-the-vines-08-06-2016-4823
END:VEVENT

END:VCALENDAR
