BEGIN:VCALENDAR
VERSION:2.0
PRODID:-//ChamberMaster//Event Calendar 2.0//EN
METHOD:PUBLISH
X-PUBLISHED-TTL:P3D
REFRESH-INTERVAL:P3D
CALSCALE:GREGORIAN
BEGIN:VEVENT
DTSTART:20180909T200000Z
DTEND:20180910T000000Z
X-MICROSOFT-CDO-ALLDAYEVENT:FALSE
SUMMARY:Wine Women & Shoes
DESCRIPTION:Wine Women & Shoes is a strolling wine and food tasting\, boutique shopping experience with a silent and live auction\, and fashion show\, that come together for a few fabulous hours of fundraising\, camaraderie and shopping. Attending the Wine Women & Shoes event offers you a meaningful way to support RISE programs serving survivors of sexual assault/abuse and intimate partner violence in our community.
X-ALT-DESC;FMTTYPE=text/html:Wine Women &amp\; Shoes is a strolling wine and food tasting\, boutique shopping experience with a silent and live auction\, and fashion show\, that come together for a few fabulous hours of fundraising\, camaraderie and shopping. Attending the Wine Women &amp\; Shoes event offers you a meaningful way to support RISE programs serving survivors of sexual assault/abuse and intimate partner violence in our community.
LOCATION:Avila Beach Golf Resort
UID:e.2488.9194
SEQUENCE:3
DTSTAMP:20260421T164936Z
URL:https://business.pasorobleschamber.com/events/details/wine-women-shoes-09-09-2018-9194
END:VEVENT

END:VCALENDAR
