BEGIN:VCALENDAR
VERSION:2.0
PRODID:-//ChamberMaster//Event Calendar 2.0//EN
METHOD:PUBLISH
X-PUBLISHED-TTL:P3D
REFRESH-INTERVAL:P3D
CALSCALE:GREGORIAN
BEGIN:VEVENT
DTSTART:20170910T210000Z
DTEND:20170911T010000Z
X-MICROSOFT-CDO-ALLDAYEVENT:FALSE
SUMMARY:Wine Women & Shoes
DESCRIPTION:Wine Women & Shoes is a strolling wine and food tasting\, boutique shopping experience with a silent and live auction\, and fashion show\, that come together for a few fabulous hours of fundraising\, camaraderie and shopping. Attending the Wine Women & Shoes event offers you a meaningful way to support RISE programs for survivors of sexual assault/abuse and intimate partner violence in our community while immersing yourself in wine and fashion.
X-ALT-DESC;FMTTYPE=text/html:Wine Women &amp\; Shoes is a strolling wine and food tasting\, boutique shopping experience with a silent and live auction\, and fashion show\, that come together for a few fabulous hours of fundraising\, camaraderie and shopping. Attending the Wine Women &amp\; Shoes event offers you a meaningful way to support RISE programs for survivors of sexual assault/abuse and intimate partner violence in our community while immersing yourself in wine and fashion.
LOCATION:Avila Beach Golf Resort 6464 Ana Bay Rd Avila Beach\, CA 93424
UID:e.2488.6601
SEQUENCE:3
DTSTAMP:20260423T184033Z
URL:https://business.pasorobleschamber.com/events/details/wine-women-shoes-6601
END:VEVENT

END:VCALENDAR
