BEGIN:VCALENDAR
VERSION:2.0
PRODID:-//ChamberMaster//Event Calendar 2.0//EN
METHOD:PUBLISH
X-PUBLISHED-TTL:P3D
REFRESH-INTERVAL:P3D
CALSCALE:GREGORIAN
BEGIN:VEVENT
DTSTART:20170611T013000Z
DTEND:20170611T040000Z
X-MICROSOFT-CDO-ALLDAYEVENT:FALSE
SUMMARY:Winemaker’s Dinner with Epoch Estate Wines at Allegretto's Cello Restaurant
DESCRIPTION:Uncork an exquisite evening with us as we pair the award-winning vintages of Epoch Estate Wines with Cello's culinary creations on Saturday\, June 10th. \n\nWinemaker Jordan Fiorentini will share the expressive\, complex flavors of each vintage as they are beautifully paired with a delectable four-course menu prepared by Executive Chef Eric Olson of Cello Ristorante & Bar.
X-ALT-DESC;FMTTYPE=text/html:<span style="background:white\;"><span style="font-family:calibri\,sans-serif\;"><span style="font-size:10.5pt\;">Uncork an exquisite evening with us as we pair the award-winning vintages of&nbsp\;</span></span></span><span style="font-family:calibri\,sans-serif\;"><span style="font-size:11.0pt\;"><a href="https://www.facebook.com/epochwines/"><span style="background:white\;"><span style="color:windowtext\;"><span style="font-size:10.5pt\;">Epoch Estate Wines</span></span></span></a></span></span>&nbsp\;<span style="background:white\;"><span style="font-family:calibri\,sans-serif\;"><span style="font-size:10.5pt\;">with Cello's culinary creations on Saturday\, June 10th.&nbsp\;</span></span></span><br>\n<span style="font-family:calibri\,sans-serif\;"><span style="font-size:10.5pt\;"><span style="background:white\;">Winemaker Jordan Fiorentini will share the expressive\, complex flavors of each vintage as they are beautifully paired with a delectable four-course menu prepared by Executive Chef Eric Olson of Cello Ristorante &amp\; Bar.&nbsp\;</span></span></span><br>\n&nbsp\;
LOCATION:Allegretto Vineyard Resort Cello Restaurant 2700 Buena Vista Dr. Paso Robles\, CA 93446
UID:e.2488.6510
SEQUENCE:3
DTSTAMP:20260423T135035Z
URL:https://business.pasorobleschamber.com/events/details/winemaker-s-dinner-with-epoch-estate-wines-at-allegretto-s-cello-restaurant-6510
END:VEVENT

END:VCALENDAR
