BEGIN:VCALENDAR
VERSION:2.0
PRODID:-//ChamberMaster//Event Calendar 2.0//EN
METHOD:PUBLISH
X-PUBLISHED-TTL:P3D
REFRESH-INTERVAL:P3D
CALSCALE:GREGORIAN
BEGIN:VEVENT
DTSTART:20171007T010000Z
DTEND:20171007T040000Z
X-MICROSOFT-CDO-ALLDAYEVENT:FALSE
SUMMARY:Winemaker's Vineyard Hayride with Rising Moon Sunset Series
DESCRIPTION:It's that time of the month again for another full moon and sunset hayride chaperoned by our winemaker\, Jim Jacobsen! Centered around the full moon\, our "Rising Moon Sunset Series" parties are the perfect way to unwind in the heart of Paso Robles wine country on the beautiful Route 46 West. A classic Doce Robles experience is\, first and foremost\, laid-back. With our tucked away country setting overlooking the vineyards\, our estate is known for being relaxing. Entertainment starts at 6 pm. Doce Robles' wines and local food by The Micro BBQ Catering Co. available for purchase. At the evening's end\, we showcase a warming fire for toasting s'mores under the full moon.\n\n https://docerobleswinery.com/events
X-ALT-DESC;FMTTYPE=text/html:It&#39\;s that time of the month again for another full moon and sunset hayride chaperoned by our winemaker\, Jim Jacobsen! Centered around the full moon\, our &ldquo\;Rising Moon Sunset Series&rdquo\; parties are the perfect way to unwind in the heart of Paso Robles wine country on the beautiful Route 46 West. A classic Doce Robles experience is\, first and foremost\, laid-back. With our tucked away country setting overlooking the vineyards\, our estate is known for being relaxing. Entertainment starts at 6 pm. Doce Robles&#39\; wines and local food by The Micro BBQ Catering Co. available for purchase. At the evening&#39\;s end\, we showcase a warming fire for toasting s&#39\;mores under the full moon.<br />\n<span style="font-family:calibri\,sans-serif\;"><span style="font-size:11.0pt\;">&nbsp\;<a href="https://docerobleswinery.com/events">https://docerobleswinery.com/events</a></span></span>
LOCATION:Doce Robles Winery & Vineyard 2023 Twelve Oaks Drive Paso Robles\, CA\, 93446 1/4 mile off the 101 highway
UID:e.2488.6604
SEQUENCE:3
DTSTAMP:20260423T045356Z
URL:https://business.pasorobleschamber.com/events/details/winemaker-s-vineyard-hayride-with-rising-moon-sunset-series-6604
END:VEVENT

END:VCALENDAR
