BEGIN:VCALENDAR
VERSION:2.0
PRODID:-//ChamberMaster//Event Calendar 2.0//EN
METHOD:PUBLISH
X-PUBLISHED-TTL:P3D
REFRESH-INTERVAL:P3D
CALSCALE:GREGORIAN
BEGIN:VEVENT
DTSTART:20180318T090000Z
DTEND:20180318T140000Z
X-MICROSOFT-CDO-ALLDAYEVENT:FALSE
SUMMARY:Women BELONG in the Kitchen
DESCRIPTION:Women have long been synonymous with cooking\, recipes\, grocery shopping and answering that age-old daily question   "Mom\, what's for dinner?" So why is it that so few women are working in commercial kitchens or running restaurants? What's up with that?\n\n\n\nOur special guests for this foodie event are proud to be in that minority\, and will be sharing with us their talents\, their stories and\, most importantly their creative dishes\, going head-to-head in a classic culinary battle right on the stage of the Fremont Theatre. Four female chefs paired with four female restaurant owners will prep and plate four distinct dishes based on what they receive in a Talley Farms Fresh Harvest Box of local fruit and vegetables.\n\n\n\nParticipants include Shanny Covey (Luna Red\, Novo\, Mint+Craft and Robin's)\, Brooke Town (Spoon Trade)\, Carole MacDonal (Il Cortile Ristorante\, La Cosecha Bar & Restaurant)\, Kari Ziegler (Comfort Market)\, Sierra Day (Rosa's Restaurante Italiano) and Sarah Paddock (Chipwrecked)\, Molly Bohlman (Niner Wine Estates)\, Nicole Pope (Stolo Family Vineyards)\, Katie Povah (Cambria Estate Vineyard and Winery) and Clarissa Nagy (Nagy Wines.)\n\n\n\nCreativity\, sassy discussion and fun will all be the ingredients of this exciting Cooking Challenge to be judged by a panel of discerning judges chosen from the audience. Hosted by actor French Stewart(Mom\, Third Rock from the Sun) who isn't a real chef  he just plays one on TV!\n\n\n\nEnjoy Central Coast wines by female winemakers\, as well as appetizers prepared by female chefs from local restaurants served in the lobby and theatre. The Challenge/Demo will begin on stage at 2:45pm\, with the fun projected on the screen\, and the movie will follow at 4:00pm.\n\n\n\nA FINE LINE\n\nWhen Joanna James began working on the film\, it was going to be about her mother's journey as chef/owner of Val's Restaurant in Holden\, Mass. But when Joanna learned that less than 7 percent of chef-restaurant owners are women\, the movie morphed into a larger investigation of gender inequality. World-renowned female chefs are "stirred into" the central narrative focusing on Val. This personal story helps advance the national dialogue on issues of gender inequality\, the challenges of balancing motherhood and career\, and how inequity in the kitchen is not the only place in which it exists. Directed by Joanna James. 71 min. USA.
X-ALT-DESC;FMTTYPE=text/html:<span style="color:rgb(75\, 79\, 86)\; font-family:sf optimized\,system-ui\,-apple-system\,blinkmacsystemfont\,.sfnstext-regular\,sans-serif\; font-size:14px">Women have long been synonymous with cooking\, recipes\, grocery shopping and answering that age-old daily question &ndash\; &ldquo\;Mom\, what&rsquo\;s for dinner?&rdquo\; So why is it that so few women are working in commercial kitchens or running restaurants? What&rsquo\;s up with that?</span><br />\n<br />\n<span style="color:rgb(75\, 79\, 86)\; font-family:sf optimized\,system-ui\,-apple-system\,blinkmacsystemfont\,.sfnstext-regular\,sans-serif\; font-size:14px">Our special guests for this foodie event are proud to be in that minority\, and will be sharing with us their talents\, their stories and\, most importantly their creative dishes\, going head-to-head in a classic culinary battle right on the stage of the Fremont Theatre. Four female chefs paired with four female restaurant owners will prep and plate four distinct dishes based on what they receive in a Talley Farms Fresh Harvest Box of local fruit and vegetables.</span><br />\n<br />\n<span style="color:rgb(75\, 79\, 86)\; font-family:sf optimized\,system-ui\,-apple-system\,blinkmacsystemfont\,.sfnstext-regular\,sans-serif\; font-size:14px">Pa</span><span style="color:rgb(75\, 79\, 86)\; font-family:sf optimized\,system-ui\,-apple-system\,blinkmacsystemfont\,.sfnstext-regular\,sans-serif\; font-size:14px">rticipants include <strong>Shanny Covey</strong> (Luna Red\, Novo\, Mint+Craft and Robin&rsquo\;s)\, <strong>Brooke Town</strong> (Spoon Trade)\, <strong>Carole MacDonal</strong> (Il Cortile Ristorante\, La Cosecha Bar &amp\; Restaurant)\, <strong>Kari Ziegler</strong> (Comfort Market)\, <strong>Sierra Day</strong> (Rosa&rsquo\;s Restaurante Italiano) and <strong>Sarah Paddock</strong> (Chipwrecked)\, <strong>Molly Bohlman</strong> (Niner Wine Estates)\, <strong>Nicole Pope&nbsp\;</strong>(Stolo Family Vineyards)\, <strong>Katie Povah</strong> (Cambria Estate Vineyard and Winery) and <strong>Clarissa Nagy</strong> (Nagy Wines.)<br />\n<br />\nCreativity\, sassy discussion and fun will all be the ingredients of this exciting Cooking Challenge to be judged by a panel of discerning judges chosen from the audience. Hosted by actor French Stewart(Mom\, Third Rock from the Sun) who isn&rsquo\;t a real chef&hellip\; he just plays one on TV!<br />\n<br />\nEnjoy Central Coast wines by female winemakers\, as well as appetizers prepared by female chefs from local restaurants served in the lobby and theatre. The Challenge/Demo will begin on stage at 2:45pm\, with the fun projected on the screen\, and the movie will follow at 4:00pm.<br />\n<br />\n<em><strong>A FINE LINE</strong></em><br />\nWhen Joanna James began working on the film\, it was going to be about her mother&rsquo\;s journey as chef/owner of Val&rsquo\;s Restaurant in Holden\, Mass. But when Joanna learned that less than 7 percent of chef-restaurant owners are women\, the movie morphed into a larger investigation of gender inequality. World-renowned female chefs are &ldquo\;stirred into&rdquo\; the central narrative focusing on Val. This personal story helps advance the national dialogue on issues of gender inequality\, the challenges of balancing motherhood and career\, and how inequity in the kitchen is not the only place in which it exists. Directed by Joanna James. 71 min. USA.</span>
LOCATION:Fremont Theater\, SLO
UID:e.2488.8008
SEQUENCE:3
DTSTAMP:20260422T065349Z
URL:https://business.pasorobleschamber.com/events/details/women-belong-in-the-kitchen-8008
END:VEVENT

END:VCALENDAR
