BEGIN:VCALENDAR
VERSION:2.0
PRODID:-//ChamberMaster//Event Calendar 2.0//EN
METHOD:PUBLISH
X-PUBLISHED-TTL:P3D
REFRESH-INTERVAL:P3D
CALSCALE:GREGORIAN
BEGIN:VEVENT
DTSTART:20160720T000000Z
DTEND:20160720T023000Z
X-MICROSOFT-CDO-ALLDAYEVENT:FALSE
SUMMARY:Women Entrepreneurs...Come Join Us
DESCRIPTION:PASO ROBLES\, we're coming to you!\n\nPlease join me and OWNER Kimberly Morelli at her amazing San Marcos Creek Winery & Vineyard for our next Meetup!\n\nKimberly came to our last Meetup! She and her family were so gracious to offer us their dream place for a Meetup!  \n\nWow! When? \n\nRight?! It's on \n\nTuesday\, July 19 \n\n5 - 5:30p - San Marcos Creek Winery Tasting (Complimentary and Optional)  One free pour (Must be 21) of our Red Table Wine\, if you would like more pours\, it will set you back 5 bucks. If you decide to buy a bottle\, the tasting is free. \n\n5:30p - 7p - Meetup - Focus: Entrepreneurial Goals\, Projects\, Action\, & Resources.
X-ALT-DESC;FMTTYPE=text/html:<p>PASO ROBLES\, we&#39\;re coming to you!</p>\n\n<p>Please join me and OWNER Kimberly Morelli at her amazing&nbsp\;<a href="http://sanmarcoscreek.com/" style="display: inline\; cursor: pointer\; color: rgb(31\, 36\, 204)\; text-decoration: none\; -webkit-animation: fontfix 0.1s linear 0.1s 1\; animation: fontfix 0.1s linear 0.1s 1\;">San Marcos Creek Winery &amp\; Vineyard&nbsp\;</a>for our next Meetup!</p>\n\n<p>Kimberly came to our last Meetup! She and her family were so gracious to offer us their dream place for a Meetup!&nbsp\;&nbsp\;</p>\n\n<p>Wow! When?&nbsp\;</p>\n\n<p>Right?! It&#39\;s on&nbsp\;</p>\n\n<p>Tuesday\, July 19&nbsp\;</p>\n\n<p>5 - 5:30p - San Marcos Creek Winery Tasting (Complimentary and Optional) &nbsp\;One free pour (Must be 21) of our Red Table Wine\, if you would like more pours\, it will set you back 5 bucks. If you decide to buy a bottle\, the tasting is free.&nbsp\;</p>\n\n<p>5:30p - 7p - Meetup -&nbsp\;Focus: Entrepreneurial Goals\, Projects\, Action\, &amp\; Resources.</p>\n
LOCATION:7750 Highway 101 (be prepared to slow near the entrance to the property)
UID:e.2488.4817
SEQUENCE:3
DTSTAMP:20260424T132337Z
URL:https://business.pasorobleschamber.com/events/details/women-entrepreneurs-come-join-us-07-19-2016-4817
END:VEVENT

END:VCALENDAR
