BEGIN:VCALENDAR
VERSION:2.0
PRODID:-//ChamberMaster//Event Calendar 2.0//EN
METHOD:PUBLISH
X-PUBLISHED-TTL:P3D
REFRESH-INTERVAL:P3D
CALSCALE:GREGORIAN
BEGIN:VEVENT
DTSTART;VALUE=DATE:20170101
DTEND;VALUE=DATE:20170102
TRANSP:TRANSPARENT
X-MICROSOFT-CDO-ALLDAYEVENT:TRUE
SUMMARY:Women In Business Annual Pass
DESCRIPTION:Save on tickets to Women in Business luncheons in 2017 by purchasing a Women in Business Annual Pass!\n\n\n\nOnly $200 for 9 events in 2017\n\n\n\nLuncheon dates are:\n\nJanuary 20th\n\nFebruary 17th\n\nMarch 17th\n\nApril 21st\n\nMay 19th\n\nAugust 18th\n\nSeptember 15th\n\nOctober 20th\n\nNovember 17th
X-ALT-DESC;FMTTYPE=text/html:Save on tickets to Women in Business luncheons in 2017 by purchasing a Women in Business Annual Pass!<br />\n<br />\nOnly $200 for 9 events in 2017<br />\n<br />\nLuncheon dates are:<br />\nJanuary 20th<br />\nFebruary 17th<br />\nMarch 17th<br />\nApril 21st<br />\nMay 19th<br />\nAugust 18th<br />\nSeptember 15th<br />\nOctober 20th<br />\nNovember 17th
LOCATION:
UID:e.2488.5696
SEQUENCE:3
DTSTAMP:20260424T015005Z
URL:https://business.pasorobleschamber.com/events/details/women-in-business-annual-pass-5696
END:VEVENT

END:VCALENDAR
