BEGIN:VCALENDAR
VERSION:2.0
PRODID:-//ChamberMaster//Event Calendar 2.0//EN
METHOD:PUBLISH
X-PUBLISHED-TTL:P3D
REFRESH-INTERVAL:P3D
CALSCALE:GREGORIAN
BEGIN:VEVENT
DTSTART:20160219T193000Z
DTEND:20160219T210000Z
X-MICROSOFT-CDO-ALLDAYEVENT:FALSE
SUMMARY:Women In Business Luncheon
DESCRIPTION:Women in Business Luncheon\n\nFebruary 19\, 2016\n\nJoin us for lunch\, laughs\, and tips on public speaking!\n\n\n\nSpeaker: Jim Pelley\, Director of Fun\n\nAs a business professional\, public speaking is a necessary skill. Jim Pelley\, former stand-up comedian\, writer for the original Saturday Night Live show\, and professional speaker for 28 years\, is bringing you a fresh\, hilarious\, and engaging presentation on the art of public speaking. Learn more about Jim at www.laughterworks.com.\n\n\n\nThe venue is indoor/outdoor\, so please wear or bring a sweater.\n\n\n\nWe will have great raffle items available this month\, so don't forget to have some cash on hand if you would like to purchase tickets. Proceeds benefit the Women in Business Scholarship Fund.\n\n\n\nSan Antonio winery will be offering complimentary tastings with your ticket AND 15% off wine by the glass and bottle purchases!\n\n\n\nPlease contact marketing@pasorobleschamber.com with any questions/concerns.
X-ALT-DESC;FMTTYPE=text/html:Women in Business Luncheon<br />\nFebruary 19\, 2016<br />\nJoin us for lunch\, laughs\, and tips on public speaking!<br />\n<br />\nSpeaker: Jim Pelley\, Director of Fun<br />\nAs a business professional\, public speaking is a&nbsp\;necessary skill. Jim Pelley\, former stand-up&nbsp\;comedian\, writer for the original Saturday Night&nbsp\;Live show\, and professional speaker for 28 years\,&nbsp\;is bringing you a fresh\, hilarious\, and engaging&nbsp\;presentation on the art of public speaking.&nbsp\;Learn more about Jim at www.laughterworks.com.<br />\n<br />\n<span style="line-height: 20.8px\;">The venue is indoor/outdoor\, so please wear or bring a sweater.</span><br />\n<br style="line-height: 20.8px\;" />\n<span style="line-height: 20.8px\;">We will have great raffle&nbsp\;items available this month\, so don&#39\;t forget to&nbsp\;have some cash on hand if you would like to purchase tickets. Proceeds benefit the Women in Business Scholarship Fund.</span><br style="line-height: 20.8px\;" />\n<br style="line-height: 20.8px\;" />\n<span style="line-height: 20.8px\;">San Antonio winery will be offering complimentary tastings with your ticket AND 15% off wine by the glass and bottle purchases!</span><br style="line-height: 20.8px\;" />\n<br style="line-height: 20.8px\;" />\n<span style="line-height: 20.8px\;">Please contact marketing@pasorobleschamber.com with any questions/concerns.</span>
LOCATION:2610 Buena Vista Drive\, Paso Robles
UID:e.2488.4486
SEQUENCE:3
DTSTAMP:20260424T210916Z
URL:https://business.pasorobleschamber.com/events/details/women-in-business-luncheon-02-19-2016-4486
END:VEVENT

END:VCALENDAR
