BEGIN:VCALENDAR
VERSION:2.0
PRODID:-//ChamberMaster//Event Calendar 2.0//EN
METHOD:PUBLISH
X-PUBLISHED-TTL:P3D
REFRESH-INTERVAL:P3D
CALSCALE:GREGORIAN
BEGIN:VEVENT
DTSTART:20160520T180000Z
DTEND:20160520T200000Z
X-MICROSOFT-CDO-ALLDAYEVENT:FALSE
SUMMARY:Women In Business Luncheon
DESCRIPTION:Join us for a special Women in Business Luncheon on May 20\, 2016 at the Paso Robles Golf Club.\n\n\n\n1600 Country Club Drive\, Paso Robles\n\n\n\nThe doors open at 11am and the program starts at 11:30am.\n\n\n\nDon't miss expert speaker Amanda Diefenderfer from TravelPaso. She will be presenting on 'Attracting Visitors to a Wine & More Destination.'\n\n\n\nAmanda has worked at the Wine Institute and Paso Robles Wine Country Alliance\, and founded Big Red Marketing\, a local wine\, lifestyle and tourism marketing agency\, in July 2012. She participated in SLO Leadership Class XXI\, actively supports the local chapter of the Santa Clara University Alumni Association\, and attended the Leon and Sylvia Panetta Institute's Education for Leadership. Diefenderfer named her company after the family ranch she grew up on in Paso Robles   Big Red Vineyard.
X-ALT-DESC;FMTTYPE=text/html:Join us for a special Women in Business Luncheon on May 20\, 2016 at the Paso Robles Golf Club.<br />\n<br />\n1600 Country Club Drive\, Paso Robles<br />\n<br />\nThe doors open at 11am and the program starts at 11:30am.<br />\n<br />\nDon&#39\;t miss expert speaker Amanda&nbsp\;Diefenderfer from TravelPaso. She will be presenting on &#39\;Attracting Visitors to a Wine &amp\; More Destination.&#39\;<br />\n<br />\nAmanda has worked at the Wine Institute and&nbsp\;Paso Robles Wine Country Alliance\, and founded&nbsp\;Big Red Marketing\, a local wine\, lifestyle and&nbsp\;tourism marketing agency\, in July 2012. She&nbsp\;participated in SLO Leadership Class XXI\,&nbsp\;actively supports the local chapter of the Santa&nbsp\;Clara University Alumni Association\, and attended the Leon and Sylvia&nbsp\;Panetta Institute&rsquo\;s Education for Leadership.&nbsp\;Diefenderfer named her&nbsp\;company after the family ranch she grew up on&nbsp\;in Paso Robles &ndash\; Big Red Vineyard.&nbsp\;
LOCATION:Paso Robles Golf Club 1600 Country Club Drive Paso Robles\, CA
UID:e.2488.4631
SEQUENCE:3
DTSTAMP:20260424T155617Z
URL:https://business.pasorobleschamber.com/events/details/women-in-business-luncheon-05-20-2016-4631
END:VEVENT

END:VCALENDAR
