BEGIN:VCALENDAR
VERSION:2.0
PRODID:-//ChamberMaster//Event Calendar 2.0//EN
METHOD:PUBLISH
X-PUBLISHED-TTL:P3D
REFRESH-INTERVAL:P3D
CALSCALE:GREGORIAN
BEGIN:VEVENT
DTSTART:20170421T183000Z
DTEND:20170421T200000Z
X-MICROSOFT-CDO-ALLDAYEVENT:FALSE
SUMMARY:Women In Business Luncheon: Creating 25 Hours in a Day!
DESCRIPTION:Join the Paso Robles Chamber of Commerce for "Creating 25 Hours in a Day!" featuring Linda Easton of Linda Easton Coaching. Linda is a business strategist and coach for entrepreneurial women who want to live with intention and create the extraordinary life they are meant to live. \n\n\n\nLunch will be served at 11:30 a.m. and the program will begin at noon. Enjoy this wonderful opportunity to learn and network with the many powerful Women In Business\, thriving in the Paso Robles community.
X-ALT-DESC;FMTTYPE=text/html:<span style="background-image:initial\;background-position:initial\;background-size:initial\;background-repeat:initial\;background-attachment:initial\;background-origin:initial\;background-clip:initial\;"><span style="font-family:arial\,sans-serif\;"><span style="font-size:10pt\;">Join the Paso Robles Chamber of Commerce for &quot\;Creating 25 Hours&nbsp\;in a Day!&quot\; featuring Linda Easton of Linda Easton Coaching. Linda is a business strategist and </span></span></span><span style="background-image:initial\;background-position:initial\;background-size:initial\;background-repeat:initial\;background-attachment:initial\;background-origin:initial\;background-clip:initial\;"><span style="font-family:arial\,sans-serif\;"><span style="font-size:10pt\;">coach for entrepreneurial women who want to live with intention and create the extraordinary life they are meant to live.&nbsp\;</span></span></span><br />\n<br />\n<span style="font-family:arial\,sans-serif\;"><span style="font-size:10pt\;"><span style="background-image:initial\;background-position:initial\;background-size:initial\;background-repeat:initial\;background-attachment:initial\;background-origin:initial\;background-clip:initial\;">Lunch will be served at 11:30 a.m. and the program will begin at noon. Enjoy this wonderful opportunity to learn and network with the many powerful Women In Business\, thriving in the Paso Robles community.&nbsp\;</span></span></span>
LOCATION:Mitchella Vineyard & Winery 2525 Mitchell Ranch Way Paso Robles\, California
UID:e.2488.5679
SEQUENCE:3
DTSTAMP:20260423T201000Z
URL:https://business.pasorobleschamber.com/events/details/women-in-business-luncheon-creating-25-hours-in-a-day-5679
END:VEVENT

END:VCALENDAR
