BEGIN:VCALENDAR
VERSION:2.0
PRODID:-//ChamberMaster//Event Calendar 2.0//EN
METHOD:PUBLISH
X-PUBLISHED-TTL:P3D
REFRESH-INTERVAL:P3D
CALSCALE:GREGORIAN
BEGIN:VEVENT
DTSTART:20170818T180000Z
DTEND:20170818T203000Z
X-MICROSOFT-CDO-ALLDAYEVENT:FALSE
SUMMARY:Women In Business Luncheon: Farm to Fork. Vine to Glass. Remembering our Roots.
DESCRIPTION:Farm to Fork. Vine to Glass. Remembering our Roots.\n\n\n\nInformative speakers will highlight the history of agriculture in our community from past to present. 100% of the silent auction proceeds benefit the Women in Business Commitment to Community Scholarship Fund.\n\n\n\nOur speakers include:\n\nGrace Pucci from Carnegie Library\n\nJessica Kolhoff and Ryan Bosc from Adelaida Vineyards & Winery\n\nJessica Silvius from Opolo Distillery\n\n\n\nYou won't want to miss this event!
X-ALT-DESC;FMTTYPE=text/html:<em>Farm to Fork. Vine to Glass. Remembering our Roots.</em><br />\n<br />\nInformative speakers will highlight the history of agriculture in our community from past to present. 100% of the silent auction proceeds benefit the Women in Business Commitment to Community Scholarship Fund.<br />\n<br />\nOur speakers include:<br />\nGrace Pucci from Carnegie Library<br />\nJessica Kolhoff and Ryan Bosc from Adelaida&nbsp\;Vineyards &amp\; Winery<br />\nJessica Silvius from Opolo Distillery<br />\n<br />\nYou won&#39\;t want to miss this event!
LOCATION:Adelaida Vineyards & Winery 5805 Adelaida Road Paso Robles\, California
UID:e.2488.5682
SEQUENCE:3
DTSTAMP:20260423T100045Z
URL:https://business.pasorobleschamber.com/events/details/women-in-business-luncheon-farm-to-fork-vine-to-glass-remembering-our-roots-5682
END:VEVENT

END:VCALENDAR
