BEGIN:VCALENDAR
VERSION:2.0
PRODID:-//ChamberMaster//Event Calendar 2.0//EN
METHOD:PUBLISH
X-PUBLISHED-TTL:P3D
REFRESH-INTERVAL:P3D
CALSCALE:GREGORIAN
BEGIN:VEVENT
DTSTART:20170120T193000Z
DTEND:20170120T210000Z
X-MICROSOFT-CDO-ALLDAYEVENT:FALSE
SUMMARY:Women In Business Luncheon January 2017
DESCRIPTION:Join the Paso Robles Chamber of Commerce for a gourmet lunch by Paso Terra\, wine by the glass and an outstanding presentation by Patrick Raymond\, co-owner of Raymond & Associates Real Estate. The topic this month will be "The Importance of Networking and How to Perfect Your Elevator Speech." Patrick has a wealth of knowledge to impart as an award winning Toastmaster\, accomplished public speaker\, and founder of Pivotal Synergy\; a business\, leadership\, and networking organization. Come and enjoy this learning experience\, the company of other business people and a fantastic lunch!
X-ALT-DESC;FMTTYPE=text/html:Join the Paso Robles Chamber of Commerce for a gourmet lunch by Paso Terra\, wine by the glass and an outstanding presentation by Patrick Raymond\, co-owner of Raymond &amp\; Associates Real Estate. The topic this month will be &quot\;The Importance of Networking and How to Perfect Your Elevator Speech.&quot\; Patrick has a wealth of knowledge to impart as an award winning Toastmaster\, accomplished public speaker\, and founder of Pivotal Synergy\; a business\, leadership\, and networking organization. Come and enjoy this learning experience\, the company of other business people and a fantastic lunch!
LOCATION:Park Ballroom 1232 Park Street\, #200 Paso Robles\, CA 93446
UID:e.2488.5676
SEQUENCE:3
DTSTAMP:20260424T015102Z
URL:https://business.pasorobleschamber.com/events/details/women-in-business-luncheon-january-2017-5676
END:VEVENT

END:VCALENDAR
