BEGIN:VCALENDAR
VERSION:2.0
PRODID:-//ChamberMaster//Event Calendar 2.0//EN
METHOD:PUBLISH
X-PUBLISHED-TTL:P3D
REFRESH-INTERVAL:P3D
CALSCALE:GREGORIAN
BEGIN:VEVENT
DTSTART:20250320T183000Z
DTEND:20250320T200000Z
X-MICROSOFT-CDO-ALLDAYEVENT:FALSE
SUMMARY:Women in Business March 2025
DESCRIPTION:Magnetic Marketing: Make Your Brand Voice Unforgettable \n\nwith Lindsey Julian\n\n \n\n\nIs your business attracting the right audience or getting lost in the noise? In this interactive workshop\, you'll learn how to craft a distinct and memorable brand voice that attracts aligned customers. Walk away with a clear understanding of what brand voice is\, why it matters\, and how to create a cohesive presence across your marketing channels. If you want your brand to be heard and remembered\, this workshop is for you. \n\n\n\n \n\n\nBusiness Spotlight: Catch Architecture\n\nMany people struggle to find homes that suit their needs\, whether due to life transitions\, location\, or market limitations. At Catch Architecture\, we transform these challenges into opportunities. Based in Paso Robles\, we specialize in residential and hospitality design\, with a focus on crafting designing legacy properties that stand the test of time\, fire-resilient homes\, and creating investment-focused spaces that maximize ROI. By listening deeply to each client's unique story and vision\, we deliver designs that adapt to life's transitions and seamlessly merge beauty with functionality.    \n\n\n\n\n\nNonprofit Spotlight: Paso Robles Youth Art\n\nOur mission is "enriching lives through the arts". \n\n\n\nJoin us for an engaging event with insightful speakers\, lunch\, and fantastic networking opportunities!\n\n\n\nThank You To Our Event Sponsors: \n\nAll About Events\n\nEducational Employees Credit Union
X-ALT-DESC;FMTTYPE=text/html:<div style="text-align: center\;">\n<div font-size:="" open="" style="color: rgb(0\, 0\, 0)\; font-family: " white-space:="">\n<p font-size:="" open="" style="margin: 0px\; padding: 0px\; color: rgb(0\, 0\, 0)\; font-family: " white-space:=""><strong><span style="font-size:20px\;"><span class="TextRun SCXW205584921 BCX0" data-contrast="auto" lang="EN-US" style="-webkit-user-drag: none\; -webkit-tap-highlight-color: transparent\; margin: 0px\; padding: 0px\; user-select: text\; color: rgb(0\, 0\, 0)\; font-style: normal\; white-space: pre-wrap\; line-height: 18.3458px\; font-family: Aptos\, Aptos_EmbeddedFont\, Aptos_MSFontService\, sans-serif\; font-variant-ligatures: none !important\;" xml:lang="EN-US">Magnetic Marketing: Make Your Brand Voice Unforgettable</span><span class="EOP SCXW205584921 BCX0" data-ccp-props="{}" style="-webkit-user-drag: none\; -webkit-tap-highlight-color: transparent\; margin: 0px\; padding: 0px\; user-select: text\; color: rgb(0\, 0\, 0)\; white-space: pre-wrap\; line-height: 18.3458px\; font-family: Aptos\, Aptos_EmbeddedFont\, Aptos_MSFontService\, sans-serif\;">&nbsp\;</span><br />\nwith Lindsey Julian</span></strong><br />\n&nbsp\;</p>\n\n<div class="OutlineElement Ltr SCXW27875666 BCX0" style="-webkit-user-drag: none\; -webkit-tap-highlight-color: transparent\; margin: 0px\; padding: 0px\; user-select: text\; clear: both\; cursor: text\; overflow: visible\; position: relative\; direction: ltr\; color: rgb(0\, 0\, 0)\; font-family: &quot\;Segoe UI&quot\;\, &quot\;Segoe UI Web&quot\;\, Arial\, Verdana\, sans-serif\; font-size: 12px\;">\n<p class="Paragraph SCXW27875666 BCX0" paraeid="{7e4fa508-7888-4bee-8191-e7340ff7fc91}{88}" paraid="886609966" style="-webkit-user-drag: none\; -webkit-tap-highlight-color: transparent\; margin: 0px 0px 10.6667px\; padding: 0px\; user-select: text\; overflow-wrap: break-word\; white-space: pre-wrap\; vertical-align: baseline\; font-kerning: none\; background-color: transparent\; color: windowtext\;"><span class="TextRun SCXW27875666 BCX0" data-contrast="auto" lang="EN-US" style="-webkit-user-drag: none\; -webkit-tap-highlight-color: transparent\; margin: 0px\; padding: 0px\; user-select: text\; font-variant-ligatures: none !important\; font-size: 11pt\; line-height: 18.3458px\; font-family: Aptos\, Aptos_EmbeddedFont\, Aptos_MSFontService\, sans-serif\;" xml:lang="EN-US"><span class="NormalTextRun SCXW27875666 BCX0" style="-webkit-user-drag: none\; -webkit-tap-highlight-color: transparent\; margin: 0px\; padding: 0px\; user-select: text\;">Is your business attracting the right audience&mdash\;or getting lost in the noise?</span><span class="NormalTextRun SCXW27875666 BCX0" style="-webkit-user-drag: none\; -webkit-tap-highlight-color: transparent\; margin: 0px\; padding: 0px\; user-select: text\;"> </span><span class="NormalTextRun SCXW27875666 BCX0" style="-webkit-user-drag: none\; -webkit-tap-highlight-color: transparent\; margin: 0px\; padding: 0px\; user-select: text\;">In this interactive workshop\, </span><span class="NormalTextRun SCXW27875666 BCX0" style="-webkit-user-drag: none\; -webkit-tap-highlight-color: transparent\; margin: 0px\; padding: 0px\; user-select: text\;">you&rsquo\;ll</span><span class="NormalTextRun SCXW27875666 BCX0" style="-webkit-user-drag: none\; -webkit-tap-highlight-color: transparent\; margin: 0px\; padding: 0px\; user-select: text\;"> learn how to craft a distinct and memorable brand voice that attracts aligned customers. Walk away with a clear understanding of what brand voice is\, why it matters\, and how to create a cohesive presence across your marketing channels. If you want your brand to be heard and remembered\, this workshop is for you.</span></span><span class="EOP SCXW27875666 BCX0" data-ccp-props="{}" style="-webkit-user-drag: none\; -webkit-tap-highlight-color: transparent\; margin: 0px\; padding: 0px\; user-select: text\; font-size: 11pt\; line-height: 18.3458px\; font-family: Aptos\, Aptos_EmbeddedFont\, Aptos_MSFontService\, sans-serif\;">&nbsp\;</span></p>\n</div>\n\n<div class="OutlineElement Ltr SCXW27875666 BCX0" style="-webkit-user-drag: none\; -webkit-tap-highlight-color: transparent\; margin: 0px\; padding: 0px\; user-select: text\; clear: both\; cursor: text\; overflow: visible\; position: relative\; direction: ltr\; color: rgb(0\, 0\, 0)\; font-family: &quot\;Segoe UI&quot\;\, &quot\;Segoe UI Web&quot\;\, Arial\, Verdana\, sans-serif\; font-size: 12px\;">\n<p class="Paragraph SCXW27875666 BCX0" paraeid="{7e4fa508-7888-4bee-8191-e7340ff7fc91}{98}" paraid="158890462" style="-webkit-user-drag: none\; -webkit-tap-highlight-color: transparent\; margin: 0px 0px 10.6667px\; padding: 0px\; user-select: text\; overflow-wrap: break-word\; white-space: pre-wrap\; vertical-align: baseline\; font-kerning: none\; background-color: transparent\; color: windowtext\;"><span class="EOP SCXW27875666 BCX0" data-ccp-props="{}" style="-webkit-user-drag: none\; -webkit-tap-highlight-color: transparent\; margin: 0px\; padding: 0px\; user-select: text\; font-size: 11pt\; line-height: 18.3458px\; font-family: Aptos\, Aptos_EmbeddedFont\, Aptos_MSFontService\, sans-serif\;">&nbsp\;</span></p>\n</div>\n\n<p font-size:="" open="" style="margin: 0px\; padding: 0px\; color: rgb(0\, 0\, 0)\; font-family: " white-space:=""><span style="color: rgb(0\, 0\, 0)\; text-align: center\; font-size: 14px\;"><strong>Business Spotlight: Catch </strong></span><strong><span class="TextRun SCXW99052889 BCX0" data-contrast="auto" lang="EN-US" style="accent-color: auto\; place-content: normal\; place-items: normal\; place-self: auto\; alignment-baseline: auto\; animation: 0s ease 0s 1 normal none running none\; app-region: none\; appearance: none\; aspect-ratio: auto\; backdrop-filter: none\; backface-visibility: visible\; background: none 0% 0% / auto repeat scroll padding-box border-box rgba(0\, 0\, 0\, 0)\; background-blend-mode: normal\; baseline-shift: 0px\; border-image: none 100% / 1 / 0 stretch\; border-color: rgb(0\, 0\, 0)\; border-collapse: separate\; border-end-end-radius: 0px\; border-end-start-radius: 0px\; border-width: 0px\; border-style: none\; border-spacing: 0px\; border-start-end-radius: 0px\; border-start-start-radius: 0px\; border-radius: 0px\; inset: auto\; box-shadow: none\; box-sizing: content-box\; break-after: auto\; break-before: auto\; break-inside: auto\; buffered-rendering: auto\; caption-side: top\; caret-color: rgb(0\, 0\, 0)\; clear: none\; clip: auto\; clip-path: none\; clip-rule: nonzero\; color: rgb(0\, 0\, 0)\; color-interpolation: srgb\; color-interpolation-filters: linearrgb\; color-rendering: auto\; color-scheme: normal\; columns: auto\; column-fill: balance\; gap: normal\; column-rule: 0px none rgb(0\, 0\, 0)\; column-span: none\; contain: none\; contain-intrinsic-block-size: none\; contain-intrinsic-size: none\; contain-intrinsic-inline-size: none\; container: none\; content: normal\; content-visibility: visible\; counter-increment: none\; counter-reset: none\; counter-set: none\; cursor: text\; cx: 0px\; cy: 0px\; d: none\; direction: ltr\; display: inline\; dominant-baseline: auto\; empty-cells: show\; fill: rgb(0\, 0\, 0)\; fill-opacity: 1\; fill-rule: nonzero\; filter: none\; flex: 0 1 auto\; flex-flow: row nowrap\; float: none\; flood-color: rgb(0\, 0\, 0)\; flood-opacity: 1\; font-family: WordVisi_MSFontService\, Aptos\, Aptos_EmbeddedFont\, Aptos_MSFontService\, sans-serif\; font-feature-settings: normal\; font-kerning: none\; font-optical-sizing: auto\; font-palette: normal\; font-size: 14.6667px\; font-stretch: 100%\; font-style: normal\; font-synthesis: weight style small-caps\; font-variant-ligatures: no-common-ligatures no-discretionary-ligatures no-historical-ligatures no-contextual\; font-variant-numeric: normal\; font-variant-east-asian: normal\; font-variation-settings: normal\; forced-color-adjust: auto\; grid-area: auto / auto / auto / auto\; grid: auto-flow auto / none\; height: auto\; hyphenate-character: auto\; hyphenate-limit-chars: auto\; hyphens: manual\; image-orientation: from-image\; image-rendering: auto\; initial-letter: normal\; inline-size: auto\; inset-block: auto\; inset-inline: auto\; isolation: auto\; lighting-color: rgb(255\, 255\, 255)\; line-break: auto\; line-height: 18.3458px\; list-style: outside none disc\; margin: 0px\; marker: none\; mask: none\; mask-type: luminance\; math-depth: 0\; math-shift: normal\; math-style: normal\; max-height: none\; max-width: none\; min-height: 0px\; min-width: 0px\; mix-blend-mode: normal\; object-fit: fill\; object-position: 50% 50%\; object-view-box: none\; offset: none 0px auto 0deg\; opacity: 1\; order: 0\; outline: rgb(0\, 0\, 0) none 0px\; outline-offset: 0px\; overflow: visible\; overflow-anchor: auto\; overflow-clip-margin: 0px\; overflow-wrap: break-word\; overscroll-behavior-block: auto\; overscroll-behavior-inline: auto\; overscroll-behavior: auto\; padding: 0px\; page: auto\; paint-order: normal\; perspective: none\; perspective-origin: 0px 0px\; pointer-events: auto\; position: static\; quotes: auto\; r: 0px\; resize: none\; rotate: none\; ruby-position: over\; rx: auto\; ry: auto\; scale: none\; scroll-behavior: auto\; scroll-margin-block: 0px\; scroll-margin: 0px\; scroll-margin-inline: 0px\; scroll-padding-block: auto\; scroll-padding: auto\; scroll-padding-inline: auto\; scroll-snap-align: none\; scroll-snap-stop: normal\; scroll-snap-type: none\; scrollbar-gutter: auto\; shape-image-threshold: 0\; shape-margin: 0px\; shape-outside: none\; shape-rendering: auto\; speak: normal\; stop-color: rgb(0\, 0\, 0)\; stop-opacity: 1\; stroke: none\; stroke-dasharray: none\; stroke-dashoffset: 0px\; stroke-linecap: butt\; stroke-linejoin: miter\; stroke-miterlimit: 4\; stroke-opacity: 1\; stroke-width: 1px\; tab-size: 8\; table-layout: auto\; text-align-last: auto\; text-anchor: start\; text-combine-upright: none\; text-decoration-style: solid\; text-decoration-color: rgb(0\, 0\, 0)\; text-decoration-skip-ink: auto\; text-emphasis: none rgb(0\, 0\, 0)\; text-emphasis-position: over\; text-orientation: mixed\; text-overflow: clip\; text-rendering: auto\; text-shadow: none\; text-size-adjust: auto\; text-underline-offset: auto\; text-underline-position: auto\; touch-action: auto\; transform: none\; transform-box: view-box\; transform-origin: 0px 0px\; transform-style: flat\; transition: all 0s ease 0s\; translate: none\; unicode-bidi: normal\; user-select: text\; vector-effect: none\; vertical-align: baseline\; visibility: visible\; border-block-end: 0px none rgb(0\, 0\, 0)\; border-block-start: 0px none rgb(0\, 0\, 0)\; border-inline-end: 0px none rgb(0\, 0\, 0)\; -webkit-border-image: none\; border-inline-start: 0px none rgb(0\, 0\, 0)\; -webkit-box-align: stretch\; -webkit-box-decoration-break: slice\; -webkit-box-direction: normal\; -webkit-box-flex: 0\; -webkit-box-ordinal-group: 1\; -webkit-box-orient: horizontal\; -webkit-box-pack: start\; -webkit-font-smoothing: auto\; -webkit-highlight: none\; -webkit-line-break: auto\; -webkit-locale: &quot\;en-US&quot\;\; block-size: auto\; margin-block: 0px\; margin-inline: 0px\; -webkit-mask-box-image-source: none\; -webkit-mask-box-image-slice: 0 fill\; -webkit-mask-box-image-width: auto\; -webkit-mask-box-image-outset: 0\; -webkit-mask-box-image-repeat: stretch\; -webkit-mask: none 0% 0% / auto repeat border-box border-box\; -webkit-mask-composite: source-over\; max-block-size: none\; max-inline-size: none\; min-block-size: 0px\; min-inline-size: 0px\; padding-block: 0px\; padding-inline: 0px\; -webkit-print-color-adjust: economy\; -webkit-rtl-ordering: logical\; -webkit-ruby-position: before\; -webkit-tap-highlight-color: rgba(0\, 0\, 0\, 0)\; -webkit-text-combine: none\; -webkit-text-fill-color: rgb(0\, 0\, 0)\; -webkit-text-orientation: vertical-right\; -webkit-text-security: none\; -webkit-text-stroke-color: rgb(0\, 0\, 0)\; -webkit-user-drag: none\; -webkit-user-modify: read-only\; -webkit-writing-mode: horizontal-tb\; white-space: pre-wrap\; width: auto\; will-change: auto\; word-break: normal\; writing-mode: horizontal-tb\; x: 0px\; y: 0px\; z-index: auto\; zoom: 1\;" xml:lang="EN-US"><span class="NormalTextRun SCXW99052889 BCX0">Architecture</span></span></strong></p>\n\n<p style="text-align: center\; color: rgb(36\, 36\, 36)\; font-size: 11pt\; font-family: Aptos\, sans-serif\; margin: 0px\;"><span class="TextRun SCXW93891698 BCX0" data-contrast="auto" lang="EN-US" style="-webkit-user-drag: none\; -webkit-tap-highlight-color: transparent\; margin: 0px\; padding: 0px\; user-select: text\; color: rgb(0\, 0\, 0)\; font-style: normal\; white-space: pre-wrap\; font-size: 11pt\; line-height: 18.3458px\; font-family: Aptos\, Aptos_EmbeddedFont\, Aptos_MSFontService\, sans-serif\; font-variant-ligatures: none !important\;" xml:lang="EN-US">Many people struggle to find homes that suit their needs\, whether due to life transitions\,&#8239\;location\, or market limitations. At Catch Architecture\, we transform these challenges into opportunities. Based in Paso Robles\, we specialize in residential and hospitality design\, with a focus on crafting designing legacy properties that stand the test of time\, fire-resilient homes\,&#8239\;and creating investment-focused spaces that maximize ROI. By listening deeply to each client&rsquo\;s unique story and vision\, we deliver designs that adapt to life&rsquo\;s transitions and seamlessly merge beauty with functionality.&#8239\; &#8239\;</span><span class="EOP SCXW93891698 BCX0" data-ccp-props="{}" style="-webkit-user-drag: none\; -webkit-tap-highlight-color: transparent\; margin: 0px\; padding: 0px\; user-select: text\; color: rgb(0\, 0\, 0)\; white-space: pre-wrap\; font-size: 11pt\; line-height: 18.3458px\; font-family: Aptos\, Aptos_EmbeddedFont\, Aptos_MSFontService\, sans-serif\;">&nbsp\;</span></p>\n\n<p font-size:="" open="" style="margin: 0px\; padding: 0px\; color: rgb(0\, 0\, 0)\; font-family: " white-space:=""><br style="color: rgb(0\, 0\, 0)\; text-align: center\;" />\n<br />\n<span style="color: rgb(0\, 0\, 0)\; text-align: center\; font-size: 14px\;"><span style="font-family: arial\;"><strong><span data-olk-copy-source="MessageBody">Nonprofit Spotlight: Paso Robles Youth Art</span></strong></span></span><br />\n<span class="TextRun SCXW211910182 BCX0" data-contrast="auto" lang="EN-US" style="-webkit-user-drag: none\; -webkit-tap-highlight-color: transparent\; margin: 0px\; padding: 0px\; user-select: text\; color: rgb(0\, 0\, 0)\; font-style: normal\; white-space: pre-wrap\; font-size: 11pt\; line-height: 18.3458px\; font-family: Aptos\, Aptos_EmbeddedFont\, Aptos_MSFontService\, sans-serif\; font-variant-ligatures: none !important\;" xml:lang="EN-US">Our mission is &quot\;enriching lives through the arts&quot\;.</span><span class="EOP SCXW211910182 BCX0" data-ccp-props="{}" style="-webkit-user-drag: none\; -webkit-tap-highlight-color: transparent\; margin: 0px\; padding: 0px\; user-select: text\; color: rgb(0\, 0\, 0)\; white-space: pre-wrap\; font-size: 11pt\; line-height: 18.3458px\; font-family: Aptos\, Aptos_EmbeddedFont\, Aptos_MSFontService\, sans-serif\;">&nbsp\;</span><br style="color: rgb(0\, 0\, 0)\; text-align: center\;" />\n<br style="color: rgb(0\, 0\, 0)\; text-align: center\;" />\n<em style="color: rgb(0\, 0\, 0)\; text-align: center\;"><span style="font-size: 16px\;"><span style="font-family: arial\;"><span style="color: rgb(51\, 51\, 51)\; font-weight: bold\;">Join us for an engaging event with insightful speakers\, lunch\, and fantastic networking opportunities!</span></span></span></em><br style="color: rgb(0\, 0\, 0)\; text-align: center\;" />\n<br style="color: rgb(0\, 0\, 0)\; text-align: center\;" />\n<span style="color: rgb(0\, 0\, 0)\; text-align: center\; font-size: 16px\;"><strong><u>Thank You To Our Event Sponsors:&nbsp\;</u></strong></span><br />\n<span style="font-size:14px\;"><a href="https://allaboutevents.com/">All About Events</a></span><br />\n<a href="https://www.myeecu.org/home/home"><span style="font-size:14px\;">Educational Employees Credit Union</span></a><br />\n&nbsp\;</p>\n</div>\n\n<div font-size:="" open="" style="color: rgb(0\, 0\, 0)\; font-family: " text-align:="" white-space:="">&nbsp\;</div>\n</div>\n
LOCATION:Please note our temporary location for March! Patina at Cal Coast Beer Company 1346 Railroad Street Paso Robles
UID:e.2488.17241
SEQUENCE:3
DTSTAMP:20260421T150508Z
URL:https://business.pasorobleschamber.com/events/details/women-in-business-march-2025-17241
END:VEVENT

END:VCALENDAR
