BEGIN:VCALENDAR
VERSION:2.0
PRODID:-//ChamberMaster//Event Calendar 2.0//EN
METHOD:PUBLISH
X-PUBLISHED-TTL:P3D
REFRESH-INTERVAL:P3D
CALSCALE:GREGORIAN
BEGIN:VEVENT
DTSTART:20180818T003000Z
DTEND:20180818T023000Z
X-MICROSOFT-CDO-ALLDAYEVENT:FALSE
SUMMARY:Women In Business Pop-Up Networking Event
DESCRIPTION:A casual time designed to bring the women of our community together. Bring a friend\, your business cards\, meet new people and share what you do!\n\n       \n Event hosted by\n\n    Su Casa Bar and Grill
X-ALT-DESC;FMTTYPE=text/html:<span style="font-size:16px\;"><span style="font-family:tahoma\;">A casual time designed to bring the women of our community together. Bring a friend\, your business cards\, meet new people and share what you do!<br />\n&nbsp\; &nbsp\; &nbsp\; &nbsp\;</span></span>\n<div style="text-align: center\;"><span style="font-size:16px\;"><span style="font-family:tahoma\;"><span style="font-size:24px\;">&nbsp\;Event hosted by</span></span></span><br />\n<span style="color: rgb(255\, 0\, 0)\; font-family: tahoma\; font-size: 16px\;">&nbsp\;&nbsp\;&nbsp\;</span><span style="color: rgb(255\, 0\, 0)\; font-family: tahoma\; font-size: 24px\;">&nbsp\;Su Casa Bar and Grill</span></div>\n
LOCATION:Su Casa Bar and Grill 2927 Spring Street Paso Robles\, California
UID:e.2488.9496
SEQUENCE:3
DTSTAMP:20260421T135611Z
URL:https://business.pasorobleschamber.com/events/details/women-in-business-pop-up-networking-event-9496
END:VEVENT

END:VCALENDAR
