BEGIN:VCALENDAR
VERSION:2.0
PRODID:-//ChamberMaster//Event Calendar 2.0//EN
METHOD:PUBLISH
X-PUBLISHED-TTL:P3D
REFRESH-INTERVAL:P3D
CALSCALE:GREGORIAN
BEGIN:VEVENT
DTSTART:20180603T153000Z
DTEND:20180603T183000Z
X-MICROSOFT-CDO-ALLDAYEVENT:FALSE
SUMMARY:Yoga Brunch at Allegretto Vineyard Resort
DESCRIPTION:Your personal journey of rejuvenation begins with balance\, bubbles\, and brunch on Sunday\, June 3rd in the intimate setting our French-inspired Abbey. \n\n\n\nRediscover your hidden harmony during our 60-minute yoga session led by Wellness Counselor and Yoga Retreat Leader\, Lauren Shannon\, followed by beautifully crafted mimosas and a delectable brunch masterfully prepared by Cello Ristorante & Bar!\n\n\n\n$45 per person\n\nReserve today: 1-805-369-2500 or See the Concierge \n\nSpots are extremely limited\n\n\n\nSunday\, June 3rd\n\n8:30 AM - Check-in\n\n8:45 AM - Yoga Session\n\n10:00 AM - Brunch
X-ALT-DESC;FMTTYPE=text/html:<span style="color:rgb(29\, 33\, 41)\; font-family:helvetica\,arial\,sans-serif\; font-size:14px">Your personal journey of rejuvenation begins with balance\, bubbles\, and brunch on Sunday\, June 3rd in the intimate setting our French-inspired Abbey.&nbsp\;</span><br />\n<br />\n<span style="color:rgb(29\, 33\, 41)\; font-family:helvetica\,arial\,sans-serif\; font-size:14px">Rediscover your hidden harmony during our 60-minute yoga session led by Wellness Counselor and Yoga Retreat Leader\, Lauren Shannon\, followed by beautifully crafted mimosas and a delectable brunch masterfully prepared by Cello Ristorante &amp\; Bar!</span><br />\n<br />\n<span style="color:rgb(29\, 33\, 41)\; font-family:helvetica\,arial\,sans-serif\; font-size:14px">$45 per person</span><br />\n<span style="color:rgb(29\, 33\, 41)\; font-family:helvetica\,arial\,sans-serif\; font-size:14px">Reserve today: 1-805-369-2500 or See the Concierge&nbsp\;</span><br />\n<span style="color:rgb(29\, 33\, 41)\; font-family:helvetica\,arial\,sans-serif\; font-size:14px">Spots are extremely limited</span><br />\n<br />\n<span style="color:rgb(29\, 33\, 41)\; font-family:helvetica\,arial\,sans-serif\; font-size:14px">Sunday\, June 3rd</span><br />\n<span style="color:rgb(29\, 33\, 41)\; font-family:helvetica\,arial\,sans-serif\; font-size:14px">8:30 AM - Check-in</span><br />\n<span style="color:rgb(29\, 33\, 41)\; font-family:helvetica\,arial\,sans-serif\; font-size:14px">8:45 AM - Yoga Session</span><br />\n<span style="color:rgb(29\, 33\, 41)\; font-family:helvetica\,arial\,sans-serif\; font-size:14px">10:00 AM - Brunch</span>
LOCATION:Allegretto Vineyard Resort 2700 Buena Vista Drive Paso Robles\, CA 93446
UID:e.2488.9150
SEQUENCE:3
DTSTAMP:20260421T182454Z
URL:https://business.pasorobleschamber.com/events/details/yoga-brunch-at-allegretto-vineyard-resort-06-03-2018-9150
END:VEVENT

END:VCALENDAR
